BEGIN:VCALENDAR
VERSION:2.0
PRODID:-//CannaConnect - ECPv6.10.0//NONSGML v1.0//EN
CALSCALE:GREGORIAN
METHOD:PUBLISH
X-ORIGINAL-URL:https://www.cannaconnect.ca
X-WR-CALDESC:Events for CannaConnect
REFRESH-INTERVAL;VALUE=DURATION:PT1H
X-Robots-Tag:noindex
X-PUBLISHED-TTL:PT1H
BEGIN:VTIMEZONE
TZID:America/Toronto
BEGIN:DAYLIGHT
TZOFFSETFROM:-0500
TZOFFSETTO:-0400
TZNAME:EDT
DTSTART:20260308T070000
END:DAYLIGHT
BEGIN:STANDARD
TZOFFSETFROM:-0400
TZOFFSETTO:-0500
TZNAME:EST
DTSTART:20261101T060000
END:STANDARD
END:VTIMEZONE
BEGIN:VEVENT
DTSTART;TZID=America/Toronto:20260422T023000
DTEND;TZID=America/Toronto:20260422T160000
DTSTAMP:20260422T080345
CREATED:20260113T163106Z
LAST-MODIFIED:20260113T163106Z
UID:7294-1776825000-1776873600@www.cannaconnect.ca
SUMMARY:TRENTON- Veteran-to-Veteran Support
DESCRIPTION:Come by the Trenton lounge every Wednesday for help with:\n• Writing and submitting VAC claims\n• Navigating VAC policies\n• Understanding required documentation
URL:https://www.cannaconnect.ca/event/trenton-veteran-to-veteran-support/2026-04-22/
LOCATION:Local Trenton Wellness Lounge\, 255 Glen Miller Road\, Unit 12\, Trenton\, Ontario\, K8V 5P8\, Canada
CATEGORIES:Trenton
ATTACH;FMTTYPE=image/png:https://www.cannaconnect.ca/wp-content/uploads/2026/01/testimonial-9.png
END:VEVENT
BEGIN:VEVENT
DTSTART;TZID=America/Toronto:20260422T090000
DTEND;TZID=America/Toronto:20260422T120000
DTSTAMP:20260422T080345
CREATED:20260108T174338Z
LAST-MODIFIED:20260108T174338Z
UID:7145-1776848400-1776859200@www.cannaconnect.ca
SUMMARY:KINGSTON- Coffee & Conversations
DESCRIPTION:Join us every Wednesday at the Kingston Wellness Lounge for coffee and conversation. Light refreshments will be provided.
URL:https://www.cannaconnect.ca/event/kingston-coffee-conversations/2026-04-22/
LOCATION:Local Kingston Wellness Lounge\, 7H-785 Sir John A MacDonald Blvd\, Kingston\, Ontario\, K7L1H3
CATEGORIES:Kingston
ATTACH;FMTTYPE=image/jpeg:https://www.cannaconnect.ca/wp-content/uploads/2026/01/tips.jpg
END:VEVENT
BEGIN:VEVENT
DTSTART;TZID=America/Toronto:20260422T100000
DTEND;TZID=America/Toronto:20260422T140000
DTSTAMP:20260422T080345
CREATED:20260226T173507Z
LAST-MODIFIED:20260226T173507Z
UID:7661-1776852000-1776866400@www.cannaconnect.ca
SUMMARY:VICTORIA- Miniature Workshops: Paint & Game!
DESCRIPTION:Join us for a hands-on workshop featuring miniature painting and tabletop gaming — including Warhammer\, Dungeons & Dragons\, and other tabletop favorites!\nBring Your Kits! Miniatures\, paints\, brushes\, and any gaming materials you’d like to use. Basic materials will be provided if you’re new. Experienced gamers/painters needed! All experience levels welcome!
URL:https://www.cannaconnect.ca/event/victoria-miniature-workshops-paint-game/2026-04-22/
LOCATION:Alberta
CATEGORIES:Victoria
ATTACH;FMTTYPE=image/png:https://www.cannaconnect.ca/wp-content/uploads/2026/02/welcome-79.png
END:VEVENT
BEGIN:VEVENT
DTSTART;TZID=America/Toronto:20260422T110000
DTEND;TZID=America/Toronto:20260422T130000
DTSTAMP:20260422T080345
CREATED:20260302T155304Z
LAST-MODIFIED:20260302T155304Z
UID:7703-1776855600-1776862800@www.cannaconnect.ca
SUMMARY:TRENTON- Cannabis Education Session
DESCRIPTION:Join us at the Trenton Lounge for a Cannabis Education Session.\nLunch will be provided.
URL:https://www.cannaconnect.ca/event/trenton-cannabis-education-session-2/
LOCATION:Local Trenton Wellness Lounge\, 255 Glen Miller Road\, Unit 12\, Trenton\, Ontario\, K8V 5P8\, Canada
CATEGORIES:Trenton
ATTACH;FMTTYPE=image/png:https://www.cannaconnect.ca/wp-content/uploads/2026/03/Welcome-87.png
END:VEVENT
BEGIN:VEVENT
DTSTART;TZID=America/Toronto:20260422T120000
DTEND;TZID=America/Toronto:20260422T140000
DTSTAMP:20260422T080345
CREATED:20260408T182019Z
LAST-MODIFIED:20260408T182019Z
UID:7944-1776859200-1776866400@www.cannaconnect.ca
SUMMARY:PETAWAWA- Weekly Lunch Social
DESCRIPTION:Looking to connect with like-minded individuals in the Veteran community? Join us for our weekly Lunch Social! Whether you’re a seasoned client or just curious about the lounge\, this is the perfect opportunity to have great conversation\, share ideas\, and enjoy great food.
URL:https://www.cannaconnect.ca/event/petawawa-weekly-lunch-social-2/2026-04-22/
LOCATION:Local Petawawa Wellness Lounge\, 4-3025 Petawawa Blvd\, Petawawa\, Ontario\, Canada
CATEGORIES:Petawawa
ATTACH;FMTTYPE=image/jpeg:https://www.cannaconnect.ca/wp-content/uploads/2026/04/contact-36.jpg
END:VEVENT
BEGIN:VEVENT
DTSTART;TZID=America/Toronto:20260422T120000
DTEND;TZID=America/Toronto:20260422T150000
DTSTAMP:20260422T080345
CREATED:20260304T174519Z
LAST-MODIFIED:20260304T174519Z
UID:7714-1776859200-1776870000@www.cannaconnect.ca
SUMMARY:MONCTON- Moncton Veterans Golf SIM Day
DESCRIPTION:Join us for an afternoon of golf\, connection\, and community! There are 12 spots available\, so be sure to secure yours early.\nTo register\, email: saintjohn@cannaconnect.ca\nWe look forward to seeing you there!
URL:https://www.cannaconnect.ca/event/moncton-moncton-veterans-golf-sim-day/
LOCATION:Moncton
CATEGORIES:Saint John
ATTACH;FMTTYPE=image/png:https://www.cannaconnect.ca/wp-content/uploads/2026/03/welcome-94.png
END:VEVENT
BEGIN:VEVENT
DTSTART;TZID=America/Toronto:20260422T120000
DTEND;TZID=America/Toronto:20260422T150000
DTSTAMP:20260422T080345
CREATED:20260326T151245Z
LAST-MODIFIED:20260326T151245Z
UID:7826-1776859200-1776870000@www.cannaconnect.ca
SUMMARY:SAINT JOHN- Moncton Veterans Golf SIM Day
DESCRIPTION:Join us for an afternoon of golf\, connection\, and community! Limited spots available.\nTo register\, email: saintjohn@cannaconnect.ca\nWe look forward to seeing you there!
URL:https://www.cannaconnect.ca/event/saint-john-moncton-veterans-golf-sim-day/
LOCATION:Local Saint John’s Wellness Lounge\, 70 Lansdowne Ave\, Unit A\, Saint John\, NB\, E2K 2Z8\, Canada
CATEGORIES:Saint John
ATTACH;FMTTYPE=image/png:https://www.cannaconnect.ca/wp-content/uploads/2026/03/welcome-2026-03-26T111055.520.png
END:VEVENT
BEGIN:VEVENT
DTSTART;TZID=America/Toronto:20260423T080000
DTEND;TZID=America/Toronto:20260423T170000
DTSTAMP:20260422T080345
CREATED:20260203T202844Z
LAST-MODIFIED:20260203T202844Z
UID:7457-1776931200-1776963600@www.cannaconnect.ca
SUMMARY:CLOVERDALE- Coffee Days
DESCRIPTION:Join us every Tuesday and Thursday at the Cloverdale Wellness Lounge for coffee and conversation.
URL:https://www.cannaconnect.ca/event/cloverdale-coffee-days/2026-04-23/
LOCATION:Cloverdale Wellness Lounge\, 104- 6525 177B St\, Surrey\, BC\, Canada
CATEGORIES:Cloverdale
ATTACH;FMTTYPE=image/jpeg:https://www.cannaconnect.ca/wp-content/uploads/2026/02/tips-2.jpg
END:VEVENT
BEGIN:VEVENT
DTSTART;TZID=America/Toronto:20260423T100000
DTEND;TZID=America/Toronto:20260423T120000
DTSTAMP:20260422T080345
CREATED:20260108T180737Z
LAST-MODIFIED:20260108T180737Z
UID:7233-1776938400-1776945600@www.cannaconnect.ca
SUMMARY:KINGSTON- Game Day
DESCRIPTION:Join us at the Kingston Lounge every Thursday for some fun! Bring a friend\, and enjoy board games\, card games\, or even throw a dart or two.
URL:https://www.cannaconnect.ca/event/kingston-game-day/2026-04-23/
LOCATION:Local Kingston Wellness Lounge\, 7H-785 Sir John A MacDonald Blvd\, Kingston\, Ontario\, K7L1H3
CATEGORIES:Kingston
ATTACH;FMTTYPE=image/jpeg:https://www.cannaconnect.ca/wp-content/uploads/2026/01/quote-32.jpg
END:VEVENT
BEGIN:VEVENT
DTSTART;TZID=America/Toronto:20260423T100000
DTEND;TZID=America/Toronto:20260423T120000
DTSTAMP:20260422T080345
CREATED:20260330T130005Z
LAST-MODIFIED:20260330T130005Z
UID:7837-1776938400-1776945600@www.cannaconnect.ca
SUMMARY:SAINT JOHN- Bowling League
DESCRIPTION:Bowling ever second Thursday! A great way to connect\, unwind\, and have fun!
URL:https://www.cannaconnect.ca/event/saint-john-bowling-league/2026-04-23/
LOCATION:Local Saint John’s Wellness Lounge\, 70 Lansdowne Ave\, Unit A\, Saint John\, NB\, E2K 2Z8\, Canada
CATEGORIES:Saint John
ATTACH;FMTTYPE=image/png:https://www.cannaconnect.ca/wp-content/uploads/2026/03/welcome-2026-03-30T085653.689.png
END:VEVENT
BEGIN:VEVENT
DTSTART;TZID=America/Toronto:20260423T110000
DTEND;TZID=America/Toronto:20260423T130000
DTSTAMP:20260422T080345
CREATED:20260323T145149Z
LAST-MODIFIED:20260323T145149Z
UID:7761-1776942000-1776949200@www.cannaconnect.ca
SUMMARY:KINGSTON- Lunch & Learn
DESCRIPTION:Join us at the Kingston Lounge for a Lunch and Learn session! Topics to be covered include:\nVAC changes\nNew products\nVeteran products
URL:https://www.cannaconnect.ca/event/kingston-lunch-learn/
LOCATION:Local Kingston Wellness Lounge\, 7H-785 Sir John A MacDonald Blvd\, Kingston\, Ontario\, K7L1H3
CATEGORIES:Kingston
ATTACH;FMTTYPE=image/png:https://www.cannaconnect.ca/wp-content/uploads/2026/03/welcome-2026-03-23T104234.512.png
END:VEVENT
BEGIN:VEVENT
DTSTART;TZID=America/Toronto:20260423T113000
DTEND;TZID=America/Toronto:20260423T133000
DTSTAMP:20260422T080345
CREATED:20251009T173248Z
LAST-MODIFIED:20251009T173248Z
UID:7111-1776943800-1776951000@www.cannaconnect.ca
SUMMARY:OTTAWA- COFFEE\, CONVERSATION\, & CONNECTION
DESCRIPTION:Join us for Coffee Time every Thursday!\n A welcoming space for Veterans and First Responders\, to connect\, relax\, and share good company.
URL:https://www.cannaconnect.ca/event/ottawa-coffee-conversation-connection/2026-04-23/
LOCATION:Local Ottawa Wellness Lounge\, 215 Menten Pl\, Nepean\, Ontario\, K2H 9C1\, Canada
CATEGORIES:Ottawa
ATTACH;FMTTYPE=image/jpeg:https://www.cannaconnect.ca/wp-content/uploads/2025/10/Ottawa-Instagram-Post-Square.jpg
END:VEVENT
BEGIN:VEVENT
DTSTART;TZID=America/Toronto:20260423T143000
DTEND;TZID=America/Toronto:20260423T170000
DTSTAMP:20260422T080345
CREATED:20260323T145313Z
LAST-MODIFIED:20260323T171859Z
UID:7764-1776954600-1776963600@www.cannaconnect.ca
SUMMARY:KINGSTON- Escape Room Adventure
DESCRIPTION:Join us at for an afternoon at Improbable Escapes and put your puzzle solving skills to the test!📧 Spaces are limited! Please RSVP to Lyndsay at: kingston@cannaconnect.ca. We encourage you to bring a friend!
URL:https://www.cannaconnect.ca/event/kingston-escape-room-adventure/
LOCATION:303 Bagot St.
CATEGORIES:Kingston
ATTACH;FMTTYPE=image/png:https://www.cannaconnect.ca/wp-content/uploads/2026/03/welcome-2026-03-23T131811.547.png
END:VEVENT
BEGIN:VEVENT
DTSTART;TZID=America/Toronto:20260424T100000
DTEND;TZID=America/Toronto:20260424T140000
DTSTAMP:20260422T080345
CREATED:20260324T122442Z
LAST-MODIFIED:20260324T122553Z
UID:7776-1777024800-1777039200@www.cannaconnect.ca
SUMMARY:KINGSTON- Trap\, Skeet & Eat
DESCRIPTION:We will be collaborating with 1000 Islands Delta Waterfowl and Kingston & District Trap Skeet and Sporting Clays Club for an afternoon of Trap\, Skeet\, and eating! Classroom style instruction on Trap & Skeet followed by practical exercise shooting a round of Trap & Skeet.\nBBQ lunch provided by Delta Waterfowl!  \n10 spots only. Sign up with Lyndsay at Kingston@cannaconnect.ca.
URL:https://www.cannaconnect.ca/event/kingston-trap-skeet-eat/
LOCATION:Local Kingston Wellness Lounge\, 7H-785 Sir John A MacDonald Blvd\, Kingston\, Ontario\, K7L1H3
CATEGORIES:Kingston
ATTACH;FMTTYPE=image/jpeg:https://www.cannaconnect.ca/wp-content/uploads/2026/03/quote-55.jpg
END:VEVENT
BEGIN:VEVENT
DTSTART;TZID=America/Toronto:20260424T120000
DTEND;TZID=America/Toronto:20260424T160000
DTSTAMP:20260422T080345
CREATED:20260331T183817Z
LAST-MODIFIED:20260331T183832Z
UID:7888-1777032000-1777046400@www.cannaconnect.ca
SUMMARY:EDMONTON- Lunch & Laps
DESCRIPTION:Join us for a day of fun! Enjoy lunch together\, then head out for an afternoon of go-karting. Bring a friend and introduce them to this amazing community!\n📧To register\, email Melissa at edmonton@cannaconnect.ca.
URL:https://www.cannaconnect.ca/event/edmonton-lunch-laps/
LOCATION:West Edmonton Mall
CATEGORIES:Edmonton
ATTACH;FMTTYPE=image/png:https://www.cannaconnect.ca/wp-content/uploads/2026/03/infographic-funfactfaq-25.png
END:VEVENT
BEGIN:VEVENT
DTSTART;TZID=America/Toronto:20260425T100000
DTEND;TZID=America/Toronto:20260425T140000
DTSTAMP:20260422T080345
CREATED:20260226T173507Z
LAST-MODIFIED:20260226T173507Z
UID:7662-1777111200-1777125600@www.cannaconnect.ca
SUMMARY:VICTORIA- Miniature Workshops: Paint & Game!
DESCRIPTION:Join us for a hands-on workshop featuring miniature painting and tabletop gaming — including Warhammer\, Dungeons & Dragons\, and other tabletop favorites!\nBring Your Kits! Miniatures\, paints\, brushes\, and any gaming materials you’d like to use. Basic materials will be provided if you’re new. Experienced gamers/painters needed! All experience levels welcome!
URL:https://www.cannaconnect.ca/event/victoria-miniature-workshops-paint-game/2026-04-25/
LOCATION:Alberta
CATEGORIES:Victoria
ATTACH;FMTTYPE=image/png:https://www.cannaconnect.ca/wp-content/uploads/2026/02/welcome-79.png
END:VEVENT
BEGIN:VEVENT
DTSTART;TZID=America/Toronto:20260427T093000
DTEND;TZID=America/Toronto:20260427T103000
DTSTAMP:20260422T080345
CREATED:20260108T175623Z
LAST-MODIFIED:20260108T175623Z
UID:7199-1777282200-1777285800@www.cannaconnect.ca
SUMMARY:KINGSTON- Monday Yoga
DESCRIPTION:Join us every Monday for Yoga sessions!\nCoach Ulanda offers an easygoing\, relaxing and laid back style. You will notice improvement in your movement\, strength and pain management
URL:https://www.cannaconnect.ca/event/kingston-monday-yoga-2/2026-04-27/
LOCATION:Local Kingston Wellness Lounge\, 7H-785 Sir John A MacDonald Blvd\, Kingston\, Ontario\, K7L1H3
CATEGORIES:Kingston
ATTACH;FMTTYPE=image/jpeg:https://www.cannaconnect.ca/wp-content/uploads/2026/01/quote-31.jpg
END:VEVENT
BEGIN:VEVENT
DTSTART;TZID=America/Toronto:20260427T100000
DTEND;TZID=America/Toronto:20260427T120000
DTSTAMP:20260422T080345
CREATED:20250902T142413Z
LAST-MODIFIED:20250902T142413Z
UID:6508-1777284000-1777291200@www.cannaconnect.ca
SUMMARY:OROMOCTO- Volunteer Visit
DESCRIPTION:Leslie Lecour is returning to volunteer at CannaConnect Oromocto starting September 15\, 2025!\n📍 Where: Oromocto Clinic\n 📅 When: Every second Monday morning\n ⏰ Time: 10:00 AM – 12:00 PM\nLeslie will be available to:\nAnswer questions and address concerns.\nShare information on VAC benefits and programs.\n📞 Book Your Appointment: Call the Oromocto CannaConnect Clinic at (506) 300-0390.
URL:https://www.cannaconnect.ca/event/oromocto-volunteer-visit/2026-04-27/
LOCATION:Alberta
CATEGORIES:Oromocto
ATTACH;FMTTYPE=image/jpeg:https://www.cannaconnect.ca/wp-content/uploads/2025/09/quote-11.jpg
END:VEVENT
BEGIN:VEVENT
DTSTART;TZID=America/Toronto:20260427T100000
DTEND;TZID=America/Toronto:20260427T120000
DTSTAMP:20260422T080345
CREATED:20260326T144436Z
LAST-MODIFIED:20260326T144436Z
UID:7789-1777284000-1777291200@www.cannaconnect.ca
SUMMARY:SAINT JOHN- Cribbage Mondays
DESCRIPTION:Looking for a fun way to start your week? Join us for cribbage! Come out\, enjoy some friendly competition\, and see how many points you can rack up!\n• Points-based play each week\n• Monthly prize for top player\n• All skill levels welcome
URL:https://www.cannaconnect.ca/event/saint-john-cribbage-mondays/2026-04-27/
LOCATION:Local Saint John’s Wellness Lounge\, 70 Lansdowne Ave\, Unit A\, Saint John\, NB\, E2K 2Z8\, Canada
CATEGORIES:Saint John
ATTACH;FMTTYPE=image/png:https://www.cannaconnect.ca/wp-content/uploads/2026/03/welcome-2026-03-26T104002.591.png
END:VEVENT
BEGIN:VEVENT
DTSTART;TZID=America/Toronto:20260427T180000
DTEND;TZID=America/Toronto:20260427T193000
DTSTAMP:20260422T080345
CREATED:20260415T161942Z
LAST-MODIFIED:20260415T161942Z
UID:8016-1777312800-1777318200@www.cannaconnect.ca
SUMMARY:OTTAWA- Dragonboat Women's Team Info Night
DESCRIPTION:CannaConnect is teaming up with the Puff Dragons Women’s Dragonboat Team again—and we want YOU to join us!\nCurious? Come learn more about this exciting way to connect with other military\, RCMP\, and Veteran women in your community. Pizza provided—bring a friend!
URL:https://www.cannaconnect.ca/event/ottawa-dragonboat-womens-team-info-night/
LOCATION:Local Ottawa Wellness Lounge\, 215 Menten Pl\, Nepean\, Ontario\, K2H 9C1\, Canada
CATEGORIES:Ottawa
ATTACH;FMTTYPE=image/png:https://www.cannaconnect.ca/wp-content/uploads/2026/04/welcome-2026-04-15T121615.404.png
END:VEVENT
BEGIN:VEVENT
DTSTART;TZID=America/Toronto:20260428T080000
DTEND;TZID=America/Toronto:20260428T170000
DTSTAMP:20260422T080345
CREATED:20260203T202844Z
LAST-MODIFIED:20260203T202844Z
UID:7458-1777363200-1777395600@www.cannaconnect.ca
SUMMARY:CLOVERDALE- Coffee Days
DESCRIPTION:Join us every Tuesday and Thursday at the Cloverdale Wellness Lounge for coffee and conversation.
URL:https://www.cannaconnect.ca/event/cloverdale-coffee-days/2026-04-28/
LOCATION:Cloverdale Wellness Lounge\, 104- 6525 177B St\, Surrey\, BC\, Canada
CATEGORIES:Cloverdale
ATTACH;FMTTYPE=image/jpeg:https://www.cannaconnect.ca/wp-content/uploads/2026/02/tips-2.jpg
END:VEVENT
BEGIN:VEVENT
DTSTART;TZID=America/Toronto:20260428T100000
DTEND;TZID=America/Toronto:20260428T120000
DTSTAMP:20260422T080345
CREATED:20250313T192844Z
LAST-MODIFIED:20250313T192844Z
UID:6648-1777370400-1777377600@www.cannaconnect.ca
SUMMARY:PETAWAWA- Music Healing Veterans
DESCRIPTION:Feel the rhythm and play along with fellow Veterans\, Tuesday mornings at the Petawawa Wellness Lounge! \nWhether you’re a beginner or looking to improve your skills\, Buck is here to help you on your musical journey. Experience the joy of creativity and camaraderie while making lasting friendships!
URL:https://www.cannaconnect.ca/event/petawawa-music-healing-veterans/2026-04-28/
LOCATION:Local Petawawa Wellness Lounge\, 4-3025 Petawawa Blvd\, Petawawa\, Ontario\, Canada
CATEGORIES:Petawawa
ATTACH;FMTTYPE=image/jpeg:https://www.cannaconnect.ca/wp-content/uploads/2025/03/Event.jpg
END:VEVENT
BEGIN:VEVENT
DTSTART;TZID=America/Toronto:20260428T100000
DTEND;TZID=America/Toronto:20260428T130000
DTSTAMP:20260422T080345
CREATED:20251029T141842Z
LAST-MODIFIED:20251029T141842Z
UID:6935-1777370400-1777381200@www.cannaconnect.ca
SUMMARY:LOWER SACKVILLE- Guitar Lessons
DESCRIPTION:Every Tuesday!\nBeginners: 10:00 am -1130 am\nAdvanced: 1130 am-1 pm
URL:https://www.cannaconnect.ca/event/lower-sackville-guitar-lessons/2026-04-28/
LOCATION:Local Nova Scotia Wellness Lounge\, 463 Sackville Dr\, Lower Sackville\, Nova Scotia\, B4C2S1\, Canada
CATEGORIES:Nova Scotia
END:VEVENT
BEGIN:VEVENT
DTSTART;TZID=America/Toronto:20260428T103000
DTEND;TZID=America/Toronto:20260428T123000
DTSTAMP:20260422T080345
CREATED:20251111T183115Z
LAST-MODIFIED:20251111T183115Z
UID:7030-1777372200-1777379400@www.cannaconnect.ca
SUMMARY:NEW MINAS- Fly Tying Tuesdays
DESCRIPTION:Join us every Tuesday for fly tying fun\, Starting November 18th.\nOpen to those with fly tying experience — please bring your own gear.
URL:https://www.cannaconnect.ca/event/new-minas-fly-tying-tuesdays/2026-04-28/
LOCATION:Alberta
CATEGORIES:New Minas
ATTACH;FMTTYPE=image/jpeg:https://www.cannaconnect.ca/wp-content/uploads/2025/11/community-21.jpg
END:VEVENT
BEGIN:VEVENT
DTSTART;TZID=America/Toronto:20260428T130000
DTEND;TZID=America/Toronto:20260428T130000
DTSTAMP:20260422T080345
CREATED:20231220T214118Z
LAST-MODIFIED:20231220T214118Z
UID:4732-1777381200-1777381200@www.cannaconnect.ca
SUMMARY:TRENTON- Gentle Yoga
DESCRIPTION:Join us at the Trenton Wellness Lounge for gentle yoga classes! Please bring a small blanket\, comfortable clothes\, and a yoga mat.
URL:https://www.cannaconnect.ca/event/trenton-gentle-yoga/2026-04-28/
LOCATION:Local Trenton Wellness Lounge\, 255 Glen Miller Road\, Unit 12\, Trenton\, Ontario\, K8V 5P8\, Canada
CATEGORIES:Trenton
ATTACH;FMTTYPE=image/png:https://www.cannaconnect.ca/wp-content/uploads/2023/12/quote-18.png
END:VEVENT
BEGIN:VEVENT
DTSTART;TZID=America/Toronto:20260429T023000
DTEND;TZID=America/Toronto:20260429T160000
DTSTAMP:20260422T080345
CREATED:20260113T163106Z
LAST-MODIFIED:20260113T163106Z
UID:7295-1777429800-1777478400@www.cannaconnect.ca
SUMMARY:TRENTON- Veteran-to-Veteran Support
DESCRIPTION:Come by the Trenton lounge every Wednesday for help with:\n• Writing and submitting VAC claims\n• Navigating VAC policies\n• Understanding required documentation
URL:https://www.cannaconnect.ca/event/trenton-veteran-to-veteran-support/2026-04-29/
LOCATION:Local Trenton Wellness Lounge\, 255 Glen Miller Road\, Unit 12\, Trenton\, Ontario\, K8V 5P8\, Canada
CATEGORIES:Trenton
ATTACH;FMTTYPE=image/png:https://www.cannaconnect.ca/wp-content/uploads/2026/01/testimonial-9.png
END:VEVENT
BEGIN:VEVENT
DTSTART;TZID=America/Toronto:20260429T090000
DTEND;TZID=America/Toronto:20260429T120000
DTSTAMP:20260422T080345
CREATED:20260108T174338Z
LAST-MODIFIED:20260108T174338Z
UID:7146-1777453200-1777464000@www.cannaconnect.ca
SUMMARY:KINGSTON- Coffee & Conversations
DESCRIPTION:Join us every Wednesday at the Kingston Wellness Lounge for coffee and conversation. Light refreshments will be provided.
URL:https://www.cannaconnect.ca/event/kingston-coffee-conversations/2026-04-29/
LOCATION:Local Kingston Wellness Lounge\, 7H-785 Sir John A MacDonald Blvd\, Kingston\, Ontario\, K7L1H3
CATEGORIES:Kingston
ATTACH;FMTTYPE=image/jpeg:https://www.cannaconnect.ca/wp-content/uploads/2026/01/tips.jpg
END:VEVENT
BEGIN:VEVENT
DTSTART;TZID=America/Toronto:20260429T100000
DTEND;TZID=America/Toronto:20260429T110000
DTSTAMP:20260422T080345
CREATED:20260323T183202Z
LAST-MODIFIED:20260323T183202Z
UID:7773-1777456800-1777460400@www.cannaconnect.ca
SUMMARY:KINGSTON- Info Session: Sound Bath Series
DESCRIPTION:Join us at the Kingston Lounge for coffee with Wellness Practitioner Miriam! She’ll be sharing her passion\, answering questions\, and introducing her upcoming sound bath series—three sessions focused on Pain\, Anxiety\, and PTSD.
URL:https://www.cannaconnect.ca/event/kingston-info-session-sound-bath-series/
LOCATION:Local Kingston Wellness Lounge\, 7H-785 Sir John A MacDonald Blvd\, Kingston\, Ontario\, K7L1H3
CATEGORIES:Kingston
ATTACH;FMTTYPE=image/jpeg:https://www.cannaconnect.ca/wp-content/uploads/2026/03/quote-52.jpg
END:VEVENT
BEGIN:VEVENT
DTSTART;TZID=America/Toronto:20260429T100000
DTEND;TZID=America/Toronto:20260429T120000
DTSTAMP:20260422T080345
CREATED:20260417T143250Z
LAST-MODIFIED:20260417T143250Z
UID:8033-1777456800-1777464000@www.cannaconnect.ca
SUMMARY:OROMOCTO- Breakfast
DESCRIPTION:Join us at the lounge for a fresh breakfast. Bring a friend!
URL:https://www.cannaconnect.ca/event/oromocto-breakfast-4/
LOCATION:Local Oromocto Wellness Lounge\, 261 Restigouche Rd #15\, Oromocto\, New Brunswick\, E2V2H1\, Canada
CATEGORIES:Oromocto
ATTACH;FMTTYPE=image/jpeg:https://www.cannaconnect.ca/wp-content/uploads/2026/04/contact-info-44.jpg
END:VEVENT
BEGIN:VEVENT
DTSTART;TZID=America/Toronto:20260429T100000
DTEND;TZID=America/Toronto:20260429T140000
DTSTAMP:20260422T080345
CREATED:20260226T173507Z
LAST-MODIFIED:20260226T173507Z
UID:7663-1777456800-1777471200@www.cannaconnect.ca
SUMMARY:VICTORIA- Miniature Workshops: Paint & Game!
DESCRIPTION:Join us for a hands-on workshop featuring miniature painting and tabletop gaming — including Warhammer\, Dungeons & Dragons\, and other tabletop favorites!\nBring Your Kits! Miniatures\, paints\, brushes\, and any gaming materials you’d like to use. Basic materials will be provided if you’re new. Experienced gamers/painters needed! All experience levels welcome!
URL:https://www.cannaconnect.ca/event/victoria-miniature-workshops-paint-game/2026-04-29/
LOCATION:Alberta
CATEGORIES:Victoria
ATTACH;FMTTYPE=image/png:https://www.cannaconnect.ca/wp-content/uploads/2026/02/welcome-79.png
END:VEVENT
END:VCALENDAR