BEGIN:VCALENDAR
VERSION:2.0
PRODID:-//CannaConnect - ECPv6.10.0//NONSGML v1.0//EN
CALSCALE:GREGORIAN
METHOD:PUBLISH
X-WR-CALNAME:CannaConnect
X-ORIGINAL-URL:https://www.cannaconnect.ca
X-WR-CALDESC:Events for CannaConnect
REFRESH-INTERVAL;VALUE=DURATION:PT1H
X-Robots-Tag:noindex
X-PUBLISHED-TTL:PT1H
BEGIN:VTIMEZONE
TZID:America/Toronto
BEGIN:DAYLIGHT
TZOFFSETFROM:-0500
TZOFFSETTO:-0400
TZNAME:EDT
DTSTART:20250309T070000
END:DAYLIGHT
BEGIN:STANDARD
TZOFFSETFROM:-0400
TZOFFSETTO:-0500
TZNAME:EST
DTSTART:20251102T060000
END:STANDARD
END:VTIMEZONE
BEGIN:VEVENT
DTSTART;TZID=America/Toronto:20250331T093000
DTEND;TZID=America/Toronto:20250331T103000
DTSTAMP:20260425T093350
CREATED:20241125T185614Z
LAST-MODIFIED:20241125T185614Z
UID:5497-1743413400-1743417000@www.cannaconnect.ca
SUMMARY:KINGSTON- Monday Yoga
DESCRIPTION:Join us on Monday mornings for a rejuvenating Yoga session that will help you kickstart your week with calm and focus. Whether you’re a beginner or an experienced yogi\, this class is designed to help you relax\, stretch\, and find your inner peace.
URL:https://www.cannaconnect.ca/event/kingston-monday-yoga/2025-03-31/
LOCATION:Alberta
CATEGORIES:Kingston
ATTACH;FMTTYPE=image/png:https://www.cannaconnect.ca/wp-content/uploads/2024/11/quote-40.png
END:VEVENT
BEGIN:VEVENT
DTSTART;TZID=America/Toronto:20250401T100000
DTEND;TZID=America/Toronto:20250401T120000
DTSTAMP:20260425T093350
CREATED:20250313T192844Z
LAST-MODIFIED:20250925T122003Z
UID:6010-1743501600-1743508800@www.cannaconnect.ca
SUMMARY:PETAWAWA- Music Healing Veterans
DESCRIPTION:Feel the rhythm and play along with fellow Veterans\, Tuesday mornings at the Petawawa Wellness Lounge! \nWhether you’re a beginner or looking to improve your skills\, Buck is here to help you on your musical journey. Experience the joy of creativity and camaraderie while making lasting friendships!
URL:https://www.cannaconnect.ca/event/petawawa-music-healing-veterans/2025-04-01/
LOCATION:Local Petawawa Wellness Lounge\, 4-3025 Petawawa Blvd\, Petawawa\, Ontario\, Canada
CATEGORIES:Petawawa
ATTACH;FMTTYPE=image/jpeg:https://www.cannaconnect.ca/wp-content/uploads/2025/03/Event.jpg
END:VEVENT
BEGIN:VEVENT
DTSTART;TZID=America/Toronto:20250401T100000
DTEND;TZID=America/Toronto:20250401T150000
DTSTAMP:20260425T093350
CREATED:20240910T194143Z
LAST-MODIFIED:20240918T145306Z
UID:5146-1743501600-1743519600@www.cannaconnect.ca
SUMMARY:NEW MINAS- Guitar Lessons
DESCRIPTION:Join us in the lounge every Wednesday from 10-3pm for guitar classes led by Cole Foran! \nBeginner lessons in the morning and advanced in the afternoon.
URL:https://www.cannaconnect.ca/event/new-minas-guitar-lessons/2025-04-01/
LOCATION:Local New Minas Wellness Lounge\, 9198 Commercial St\, New Minas\, Nova Scotia\, B4N 3E5\, Canada
CATEGORIES:New Minas
ATTACH;FMTTYPE=image/png:https://www.cannaconnect.ca/wp-content/uploads/2024/09/Photography-Classes-1.png
END:VEVENT
BEGIN:VEVENT
DTSTART;TZID=America/Toronto:20250401T110000
DTEND;TZID=America/Toronto:20250401T120000
DTSTAMP:20260425T093350
CREATED:20250225T154703Z
LAST-MODIFIED:20250225T155104Z
UID:5900-1743505200-1743508800@www.cannaconnect.ca
SUMMARY:ST. JOHN'S- Yoga
DESCRIPTION:Join us at the St. John’s Wellness lounge Tuesday mornings for yoga! All are welcome!
URL:https://www.cannaconnect.ca/event/st-johns-yoga/2025-04-01/
LOCATION:Alberta
CATEGORIES:St. John's
ATTACH;FMTTYPE=image/jpeg:https://www.cannaconnect.ca/wp-content/uploads/2025/02/how-to-get-started-7.jpg
END:VEVENT
BEGIN:VEVENT
DTSTART;TZID=America/Toronto:20250401T130000
DTEND;TZID=America/Toronto:20250401T130000
DTSTAMP:20260425T093350
CREATED:20231220T214118Z
LAST-MODIFIED:20231220T214118Z
UID:4228-1743512400-1743512400@www.cannaconnect.ca
SUMMARY:TRENTON- Gentle Yoga
DESCRIPTION:Join us at the Trenton Wellness Lounge for gentle yoga classes! Please bring a small blanket\, comfortable clothes\, and a yoga mat.
URL:https://www.cannaconnect.ca/event/trenton-gentle-yoga/2025-04-01/
LOCATION:Local Trenton Wellness Lounge\, 255 Glen Miller Road\, Unit 12\, Trenton\, Ontario\, K8V 5P8\, Canada
CATEGORIES:Trenton
ATTACH;FMTTYPE=image/png:https://www.cannaconnect.ca/wp-content/uploads/2023/12/quote-18.png
END:VEVENT
BEGIN:VEVENT
DTSTART;TZID=America/Toronto:20250401T140000
DTEND;TZID=America/Toronto:20250401T160000
DTSTAMP:20260425T093350
CREATED:20241209T193249Z
LAST-MODIFIED:20241209T193249Z
UID:5557-1743516000-1743523200@www.cannaconnect.ca
SUMMARY:OROMOCTO- Guitar Lessons
DESCRIPTION:Join us at the Oromocto Wellness Lounge every Tuesday for guitar lessons!
URL:https://www.cannaconnect.ca/event/oromocto-guitar-lessons/2025-04-01/
LOCATION:Alberta
CATEGORIES:Oromocto
ATTACH;FMTTYPE=image/png:https://www.cannaconnect.ca/wp-content/uploads/2024/12/contact-info-17.png
END:VEVENT
BEGIN:VEVENT
DTSTART;TZID=America/Toronto:20250402T093000
DTEND;TZID=America/Toronto:20250402T110000
DTSTAMP:20260425T093350
CREATED:20250203T143305Z
LAST-MODIFIED:20250203T144428Z
UID:5759-1743586200-1743591600@www.cannaconnect.ca
SUMMARY:KINGSTON- Community Breakfast
DESCRIPTION:Rise and shine! Start your day at the Kingston Wellness Lounge for our community breakfast.
URL:https://www.cannaconnect.ca/event/community-breakfast/2025-04-02/
LOCATION:Local Kingston Wellness Lounge\, 7H-785 Sir John A MacDonald Blvd\, Kingston\, Ontario\, K7L1H3
CATEGORIES:Kingston
ATTACH;FMTTYPE=image/png:https://www.cannaconnect.ca/wp-content/uploads/2025/02/quote-50.png
END:VEVENT
BEGIN:VEVENT
DTSTART;TZID=America/Toronto:20250402T100000
DTEND;TZID=America/Toronto:20250402T130000
DTSTAMP:20260425T093350
CREATED:20250321T181338Z
LAST-MODIFIED:20250321T181338Z
UID:6055-1743588000-1743598800@www.cannaconnect.ca
SUMMARY:NEW MINAS- Guitar Lessons
DESCRIPTION:Join us in the lounge every Wednesday for guitar lessons with Cole. \nBeginner 10 am-11:30 am \nAdvanced 11:30 am-1 pm
URL:https://www.cannaconnect.ca/event/new-minas-guitar-lessons-2/2025-04-02/
LOCATION:Alberta
CATEGORIES:New Minas
ATTACH;FMTTYPE=image/jpeg:https://www.cannaconnect.ca/wp-content/uploads/2025/03/weekly-Jam-3.jpg
END:VEVENT
BEGIN:VEVENT
DTSTART;TZID=America/Toronto:20250402T100000
DTEND;TZID=America/Toronto:20250402T150000
DTSTAMP:20260425T093350
CREATED:20240910T194143Z
LAST-MODIFIED:20240910T194143Z
UID:5200-1743588000-1743606000@www.cannaconnect.ca
SUMMARY:NEW MINAS- Guitar Lessons
DESCRIPTION:Join us in the lounge every Wednesday from 10-3pm for guitar classes led by Cole Foran! \nBeginner lessons in the morning and advanced in the afternoon.
URL:https://www.cannaconnect.ca/event/new-minas-guitar-lessons/2025-04-02/
LOCATION:Local New Minas Wellness Lounge\, 9198 Commercial St\, New Minas\, Nova Scotia\, B4N 3E5\, Canada
CATEGORIES:New Minas
ATTACH;FMTTYPE=image/png:https://www.cannaconnect.ca/wp-content/uploads/2024/09/Photography-Classes-1.png
END:VEVENT
BEGIN:VEVENT
DTSTART;TZID=America/Toronto:20250402T110000
DTEND;TZID=America/Toronto:20250402T140000
DTSTAMP:20260425T093350
CREATED:20250306T202614Z
LAST-MODIFIED:20250318T185532Z
UID:5978-1743591600-1743602400@www.cannaconnect.ca
SUMMARY:TRENTON- Operation Motorsport
DESCRIPTION:We’re excited to welcome Tiffany from Operation Motorsport as she shares exciting opportunities in the FEL Motorsports paddock and details about their new series partnership! \nDiscover how you can get involved—don’t miss out!
URL:https://www.cannaconnect.ca/event/trenton-operation-motorsport/
LOCATION:Local Trenton Wellness Lounge\, 255 Glen Miller Road\, Unit 12\, Trenton\, Ontario\, K8V 5P8\, Canada
CATEGORIES:Trenton
ATTACH;FMTTYPE=image/jpeg:https://www.cannaconnect.ca/wp-content/uploads/2025/03/testimonial-58.jpg
END:VEVENT
BEGIN:VEVENT
DTSTART;TZID=America/Toronto:20250402T120000
DTEND;TZID=America/Toronto:20250402T143000
DTSTAMP:20260425T093350
CREATED:20250305T183740Z
LAST-MODIFIED:20250305T183740Z
UID:5945-1743595200-1743604200@www.cannaconnect.ca
SUMMARY:PETAWAWA- Weekly Lunch Social
DESCRIPTION:Looking to connect with like-minded individuals in the Veteran community? Join us for our weekly Lunch Social! Whether you’re a seasoned client or just curious about the lounge\, this is the perfect opportunity to have great conversation\, share ideas\, and enjoy great food.
URL:https://www.cannaconnect.ca/event/petawawa-weekly-lunch-social/2025-04-02/
LOCATION:Alberta
CATEGORIES:Petawawa
ATTACH;FMTTYPE=image/jpeg:https://www.cannaconnect.ca/wp-content/uploads/2025/03/contact-8.jpg
END:VEVENT
BEGIN:VEVENT
DTSTART;TZID=America/Toronto:20250402T120000
DTEND;TZID=America/Toronto:20250402T150000
DTSTAMP:20260425T093350
CREATED:20241216T205030Z
LAST-MODIFIED:20241216T205030Z
UID:5608-1743595200-1743606000@www.cannaconnect.ca
SUMMARY:PETAWAWA- Weekly Lunch
DESCRIPTION:Join us at the Petawawa Lounge every Wednesday for a delicious lunch!
URL:https://www.cannaconnect.ca/event/petawawa-weekly-lunch/2025-04-02/
LOCATION:Local Petawawa Wellness Lounge\, 4-3025 Petawawa Blvd\, Petawawa\, Ontario\, Canada
CATEGORIES:Petawawa
ATTACH;FMTTYPE=image/png:https://www.cannaconnect.ca/wp-content/uploads/2024/12/contact-4.png
END:VEVENT
BEGIN:VEVENT
DTSTART;TZID=America/Toronto:20250402T130000
DTEND;TZID=America/Toronto:20250402T150000
DTSTAMP:20260425T093350
CREATED:20241209T195016Z
LAST-MODIFIED:20241209T195016Z
UID:5580-1743598800-1743606000@www.cannaconnect.ca
SUMMARY:OROMOCTO- Music Jam
DESCRIPTION:Join us at the Oromocto Wellness Lounge every Wednesday for a music jam!
URL:https://www.cannaconnect.ca/event/oromocto-music-jam/2025-04-02/
LOCATION:Local Oromocto Wellness Lounge\, 261 Restigouche Rd #15\, Oromocto\, New Brunswick\, E2V2H1\, Canada
CATEGORIES:Oromocto
ATTACH;FMTTYPE=image/png:https://www.cannaconnect.ca/wp-content/uploads/2024/12/contact-info-18.png
END:VEVENT
BEGIN:VEVENT
DTSTART;TZID=America/Toronto:20250402T190000
DTEND;TZID=America/Toronto:20250402T203000
DTSTAMP:20260425T093350
CREATED:20250225T154328Z
LAST-MODIFIED:20250225T154328Z
UID:5868-1743620400-1743625800@www.cannaconnect.ca
SUMMARY:ST. JOHN'S- GAMES NIGHT
DESCRIPTION:Join us at the St. John’s Wellness lounge Wednesday evenings for a game of cards!
URL:https://www.cannaconnect.ca/event/st-johns-games-night/2025-04-02/
LOCATION:Alberta
CATEGORIES:St. John's
ATTACH;FMTTYPE=image/jpeg:https://www.cannaconnect.ca/wp-content/uploads/2025/02/how-to-get-started-5.jpg
END:VEVENT
BEGIN:VEVENT
DTSTART;TZID=America/Toronto:20250403T100000
DTEND;TZID=America/Toronto:20250403T120000
DTSTAMP:20260425T093350
CREATED:20241108T181807Z
LAST-MODIFIED:20241111T171827Z
UID:5424-1743674400-1743681600@www.cannaconnect.ca
SUMMARY:KINGSTON- Games Day
DESCRIPTION:Ready to level up your Thursdays? Join us for Game Day every week! Whether you’re a board game pro or just here for some casual fun\, there’s a spot for everyone.
URL:https://www.cannaconnect.ca/event/kingston-games-day-2/2025-04-03/
LOCATION:Local Kingston Wellness Lounge\, 7H-785 Sir John A MacDonald Blvd\, Kingston\, Ontario\, K7L1H3
CATEGORIES:Kingston
ATTACH;FMTTYPE=image/png:https://www.cannaconnect.ca/wp-content/uploads/2024/11/quote-36.png
END:VEVENT
BEGIN:VEVENT
DTSTART;TZID=America/Toronto:20250403T100000
DTEND;TZID=America/Toronto:20250403T120000
DTSTAMP:20260425T093350
CREATED:20250203T144655Z
LAST-MODIFIED:20250203T144655Z
UID:5774-1743674400-1743681600@www.cannaconnect.ca
SUMMARY:EDMONTON- Coffee Time
DESCRIPTION:Join us Thursday mornings at the Edmonton Wellness lounge for your morning brew!
URL:https://www.cannaconnect.ca/event/edmonton-coffee-time/2025-04-03/
LOCATION:Local Edmonton Wellness Lounge\, 12510 128 Street Northwest\, Edmonton\, Alberta\, T5L 1C8\, Canada
CATEGORIES:Edmonton
ATTACH;FMTTYPE=image/png:https://www.cannaconnect.ca/wp-content/uploads/2025/02/quote-51.png
END:VEVENT
BEGIN:VEVENT
DTSTART;TZID=America/Toronto:20250403T110000
DTEND;TZID=America/Toronto:20250403T123000
DTSTAMP:20260425T093350
CREATED:20250306T202801Z
LAST-MODIFIED:20250318T185413Z
UID:5983-1743678000-1743683400@www.cannaconnect.ca
SUMMARY:KINGSTON- Operation Motorsport
DESCRIPTION:We’re excited to welcome Tiffany from Operation Motorsport as she shares exciting opportunities in the FEL Motorsports paddock and details about their new series partnership! \nDiscover how you can get involved—don’t miss out!
URL:https://www.cannaconnect.ca/event/kingston-operation-motorsport/
LOCATION:Local Kingston Wellness Lounge\, 7H-785 Sir John A MacDonald Blvd\, Kingston\, Ontario\, K7L1H3
CATEGORIES:Kingston
ATTACH;FMTTYPE=image/jpeg:https://www.cannaconnect.ca/wp-content/uploads/2025/03/testimonial-59.jpg
END:VEVENT
BEGIN:VEVENT
DTSTART;TZID=America/Toronto:20250403T110000
DTEND;TZID=America/Toronto:20250403T123000
DTSTAMP:20260425T093350
CREATED:20250401T144541Z
LAST-MODIFIED:20250401T144550Z
UID:6097-1743678000-1743683400@www.cannaconnect.ca
SUMMARY:KINGSTON- Operation Motorsport
DESCRIPTION:We’re excited to welcome Tiffany from Operation Motorsport as she shares exciting opportunities in the FEL Motorsports paddock and details about their new series partnership! \nDiscover how you can get involved—don’t miss out!
URL:https://www.cannaconnect.ca/event/kinston-operation-motorsport/
LOCATION:Local Kingston Wellness Lounge\, 7H-785 Sir John A MacDonald Blvd\, Kingston\, Ontario\, K7L1H3
CATEGORIES:Kingston
ATTACH;FMTTYPE=image/jpeg:https://www.cannaconnect.ca/wp-content/uploads/2025/03/testimonial-51.jpg
END:VEVENT
BEGIN:VEVENT
DTSTART;TZID=America/Toronto:20250404T113000
DTEND;TZID=America/Toronto:20250404T140000
DTSTAMP:20260425T093350
CREATED:20250113T151907Z
LAST-MODIFIED:20250113T151907Z
UID:5691-1743766200-1743775200@www.cannaconnect.ca
SUMMARY:NEW MINAS- Soup's On!
DESCRIPTION:Come by the New Minas Lounge every Friday\, for a hot bowl of soup!
URL:https://www.cannaconnect.ca/event/new-minas-soups-on/2025-04-04/
LOCATION:Local New Minas Wellness Lounge\, 9198 Commercial St\, New Minas\, Nova Scotia\, B4N 3E5\, Canada
CATEGORIES:New Minas
ATTACH;FMTTYPE=image/png:https://www.cannaconnect.ca/wp-content/uploads/2025/01/contact-info-20.png
END:VEVENT
BEGIN:VEVENT
DTSTART;TZID=America/Toronto:20250407T093000
DTEND;TZID=America/Toronto:20250407T103000
DTSTAMP:20260425T093350
CREATED:20241125T185614Z
LAST-MODIFIED:20241125T185614Z
UID:5498-1744018200-1744021800@www.cannaconnect.ca
SUMMARY:KINGSTON- Monday Yoga
DESCRIPTION:Join us on Monday mornings for a rejuvenating Yoga session that will help you kickstart your week with calm and focus. Whether you’re a beginner or an experienced yogi\, this class is designed to help you relax\, stretch\, and find your inner peace.
URL:https://www.cannaconnect.ca/event/kingston-monday-yoga/2025-04-07/
LOCATION:Alberta
CATEGORIES:Kingston
ATTACH;FMTTYPE=image/png:https://www.cannaconnect.ca/wp-content/uploads/2024/11/quote-40.png
END:VEVENT
BEGIN:VEVENT
DTSTART;TZID=America/Toronto:20250407T130000
DTEND;TZID=America/Toronto:20250407T140000
DTSTAMP:20260425T093350
CREATED:20250327T192629Z
LAST-MODIFIED:20250327T192629Z
UID:6086-1744030800-1744034400@www.cannaconnect.ca
SUMMARY:NEW MINAS- Photography Classes
DESCRIPTION:Join us in the lounge on Mondays from 1 pm – 2 pm for photography classes with Veteran Jay Isenor!
URL:https://www.cannaconnect.ca/event/new-minas-photography-classes/2025-04-07/
LOCATION:Local New Minas Wellness Lounge\, 9198 Commercial St\, New Minas\, Nova Scotia\, B4N 3E5\, Canada
CATEGORIES:New Minas
ATTACH;FMTTYPE=image/jpeg:https://www.cannaconnect.ca/wp-content/uploads/2025/03/Photography-Classes-4.jpg
END:VEVENT
BEGIN:VEVENT
DTSTART;TZID=America/Toronto:20250408T100000
DTEND;TZID=America/Toronto:20250408T120000
DTSTAMP:20260425T093350
CREATED:20241126T151214Z
LAST-MODIFIED:20250131T162708Z
UID:5524-1744106400-1744113600@www.cannaconnect.ca
SUMMARY:SAINT JOHN- Tuesday Breakfast
DESCRIPTION:Join us at the Saint John Wellness Lounge every other Tuesday for a delicious breakfast! Bacon\, eggs\, hashbrowns\, toast\, and of course\, Veteran-owned Arrowhead coffee.
URL:https://www.cannaconnect.ca/event/saint-john-tuesday-breakfast/2025-04-08/
LOCATION:Local Saint John’s Wellness Lounge\, 70 Lansdowne Ave\, Unit A\, Saint John\, NB\, E2K 2Z8\, Canada
CATEGORIES:Saint John
ATTACH;FMTTYPE=image/png:https://www.cannaconnect.ca/wp-content/uploads/2024/11/welcome-34.png
END:VEVENT
BEGIN:VEVENT
DTSTART;TZID=America/Toronto:20250408T100000
DTEND;TZID=America/Toronto:20250408T120000
DTSTAMP:20260425T093350
CREATED:20250313T192844Z
LAST-MODIFIED:20250925T122004Z
UID:6011-1744106400-1744113600@www.cannaconnect.ca
SUMMARY:PETAWAWA- Music Healing Veterans
DESCRIPTION:Feel the rhythm and play along with fellow Veterans\, Tuesday mornings at the Petawawa Wellness Lounge! \nWhether you’re a beginner or looking to improve your skills\, Buck is here to help you on your musical journey. Experience the joy of creativity and camaraderie while making lasting friendships!
URL:https://www.cannaconnect.ca/event/petawawa-music-healing-veterans/2025-04-08/
LOCATION:Local Petawawa Wellness Lounge\, 4-3025 Petawawa Blvd\, Petawawa\, Ontario\, Canada
CATEGORIES:Petawawa
ATTACH;FMTTYPE=image/jpeg:https://www.cannaconnect.ca/wp-content/uploads/2025/03/Event.jpg
END:VEVENT
BEGIN:VEVENT
DTSTART;TZID=America/Toronto:20250408T100000
DTEND;TZID=America/Toronto:20250408T150000
DTSTAMP:20260425T093350
CREATED:20240910T194143Z
LAST-MODIFIED:20240918T145307Z
UID:5147-1744106400-1744124400@www.cannaconnect.ca
SUMMARY:NEW MINAS- Guitar Lessons
DESCRIPTION:Join us in the lounge every Wednesday from 10-3pm for guitar classes led by Cole Foran! \nBeginner lessons in the morning and advanced in the afternoon.
URL:https://www.cannaconnect.ca/event/new-minas-guitar-lessons/2025-04-08/
LOCATION:Local New Minas Wellness Lounge\, 9198 Commercial St\, New Minas\, Nova Scotia\, B4N 3E5\, Canada
CATEGORIES:New Minas
ATTACH;FMTTYPE=image/png:https://www.cannaconnect.ca/wp-content/uploads/2024/09/Photography-Classes-1.png
END:VEVENT
BEGIN:VEVENT
DTSTART;TZID=America/Toronto:20250408T110000
DTEND;TZID=America/Toronto:20250408T120000
DTSTAMP:20260425T093350
CREATED:20250225T154703Z
LAST-MODIFIED:20250225T155105Z
UID:5901-1744110000-1744113600@www.cannaconnect.ca
SUMMARY:ST. JOHN'S- Yoga
DESCRIPTION:Join us at the St. John’s Wellness lounge Tuesday mornings for yoga! All are welcome!
URL:https://www.cannaconnect.ca/event/st-johns-yoga/2025-04-08/
LOCATION:Alberta
CATEGORIES:St. John's
ATTACH;FMTTYPE=image/jpeg:https://www.cannaconnect.ca/wp-content/uploads/2025/02/how-to-get-started-7.jpg
END:VEVENT
BEGIN:VEVENT
DTSTART;TZID=America/Toronto:20250408T130000
DTEND;TZID=America/Toronto:20250408T130000
DTSTAMP:20260425T093350
CREATED:20231220T214118Z
LAST-MODIFIED:20231220T214118Z
UID:4229-1744117200-1744117200@www.cannaconnect.ca
SUMMARY:TRENTON- Gentle Yoga
DESCRIPTION:Join us at the Trenton Wellness Lounge for gentle yoga classes! Please bring a small blanket\, comfortable clothes\, and a yoga mat.
URL:https://www.cannaconnect.ca/event/trenton-gentle-yoga/2025-04-08/
LOCATION:Local Trenton Wellness Lounge\, 255 Glen Miller Road\, Unit 12\, Trenton\, Ontario\, K8V 5P8\, Canada
CATEGORIES:Trenton
ATTACH;FMTTYPE=image/png:https://www.cannaconnect.ca/wp-content/uploads/2023/12/quote-18.png
END:VEVENT
BEGIN:VEVENT
DTSTART;TZID=America/Toronto:20250408T140000
DTEND;TZID=America/Toronto:20250408T160000
DTSTAMP:20260425T093350
CREATED:20241209T193249Z
LAST-MODIFIED:20241209T193249Z
UID:5558-1744120800-1744128000@www.cannaconnect.ca
SUMMARY:OROMOCTO- Guitar Lessons
DESCRIPTION:Join us at the Oromocto Wellness Lounge every Tuesday for guitar lessons!
URL:https://www.cannaconnect.ca/event/oromocto-guitar-lessons/2025-04-08/
LOCATION:Alberta
CATEGORIES:Oromocto
ATTACH;FMTTYPE=image/png:https://www.cannaconnect.ca/wp-content/uploads/2024/12/contact-info-17.png
END:VEVENT
BEGIN:VEVENT
DTSTART;TZID=America/Toronto:20250409T093000
DTEND;TZID=America/Toronto:20250409T110000
DTSTAMP:20260425T093350
CREATED:20250203T143305Z
LAST-MODIFIED:20250203T144429Z
UID:5760-1744191000-1744196400@www.cannaconnect.ca
SUMMARY:KINGSTON- Community Breakfast
DESCRIPTION:Rise and shine! Start your day at the Kingston Wellness Lounge for our community breakfast.
URL:https://www.cannaconnect.ca/event/community-breakfast/2025-04-09/
LOCATION:Local Kingston Wellness Lounge\, 7H-785 Sir John A MacDonald Blvd\, Kingston\, Ontario\, K7L1H3
CATEGORIES:Kingston
ATTACH;FMTTYPE=image/png:https://www.cannaconnect.ca/wp-content/uploads/2025/02/quote-50.png
END:VEVENT
BEGIN:VEVENT
DTSTART;TZID=America/Toronto:20250409T100000
DTEND;TZID=America/Toronto:20250409T120000
DTSTAMP:20260425T093350
CREATED:20250318T193630Z
LAST-MODIFIED:20250318T193630Z
UID:6046-1744192800-1744200000@www.cannaconnect.ca
SUMMARY:OROMOCTO- Breakfast at the Lounge
DESCRIPTION:Join us at the Oromocto Wellness Lounge for breakfast!
URL:https://www.cannaconnect.ca/event/oromocto-breakfast-at-the-lounge/
LOCATION:Local Oromocto Wellness Lounge\, 261 Restigouche Rd #15\, Oromocto\, New Brunswick\, E2V2H1\, Canada
CATEGORIES:Oromocto
ATTACH;FMTTYPE=image/png:https://www.cannaconnect.ca/wp-content/uploads/2025/03/contact-info-27.png
END:VEVENT
BEGIN:VEVENT
DTSTART;TZID=America/Toronto:20250409T100000
DTEND;TZID=America/Toronto:20250409T130000
DTSTAMP:20260425T093350
CREATED:20250321T181338Z
LAST-MODIFIED:20250321T181338Z
UID:6056-1744192800-1744203600@www.cannaconnect.ca
SUMMARY:NEW MINAS- Guitar Lessons
DESCRIPTION:Join us in the lounge every Wednesday for guitar lessons with Cole. \nBeginner 10 am-11:30 am \nAdvanced 11:30 am-1 pm
URL:https://www.cannaconnect.ca/event/new-minas-guitar-lessons-2/2025-04-09/
LOCATION:Alberta
CATEGORIES:New Minas
ATTACH;FMTTYPE=image/jpeg:https://www.cannaconnect.ca/wp-content/uploads/2025/03/weekly-Jam-3.jpg
END:VEVENT
END:VCALENDAR