BEGIN:VCALENDAR
VERSION:2.0
PRODID:-//CannaConnect - ECPv6.10.0//NONSGML v1.0//EN
CALSCALE:GREGORIAN
METHOD:PUBLISH
X-WR-CALNAME:CannaConnect
X-ORIGINAL-URL:https://www.cannaconnect.ca
X-WR-CALDESC:Events for CannaConnect
REFRESH-INTERVAL;VALUE=DURATION:PT1H
X-Robots-Tag:noindex
X-PUBLISHED-TTL:PT1H
BEGIN:VTIMEZONE
TZID:America/Toronto
BEGIN:DAYLIGHT
TZOFFSETFROM:-0500
TZOFFSETTO:-0400
TZNAME:EDT
DTSTART:20240310T070000
END:DAYLIGHT
BEGIN:STANDARD
TZOFFSETFROM:-0400
TZOFFSETTO:-0500
TZNAME:EST
DTSTART:20241103T060000
END:STANDARD
END:VTIMEZONE
BEGIN:VEVENT
DTSTART;TZID=America/Toronto:20241024T103000
DTEND;TZID=America/Toronto:20241024T123000
DTSTAMP:20260421T050332
CREATED:20240927T161149Z
LAST-MODIFIED:20240927T161149Z
UID:5293-1729765800-1729773000@www.cannaconnect.ca
SUMMARY:KINGSTON- Dungeons & Dragons
DESCRIPTION:Calling all adventurers! Join our intro to D & D group for epic quests and legendary fun.
URL:https://www.cannaconnect.ca/event/kingston-dungeons-dragons/2024-10-24/
LOCATION:Alberta
CATEGORIES:Kingston
ATTACH;FMTTYPE=image/png:https://www.cannaconnect.ca/wp-content/uploads/2024/09/quote-24.png
END:VEVENT
BEGIN:VEVENT
DTSTART;TZID=America/Toronto:20241024T120000
DTEND;TZID=America/Toronto:20241024T140000
DTSTAMP:20260421T050332
CREATED:20241007T144947Z
LAST-MODIFIED:20241007T144947Z
UID:5305-1729771200-1729778400@www.cannaconnect.ca
SUMMARY:OTTAWA- Fall Brunch
DESCRIPTION:Join us at the Ottawa Wellness Lounge for a fall brunch!
URL:https://www.cannaconnect.ca/event/ottawa-fall-brunch/
LOCATION:Local Ottawa Wellness Lounge\, 215 Menten Pl\, Nepean\, Ontario\, K2H 9C1\, Canada
CATEGORIES:Ottawa
ATTACH;FMTTYPE=image/png:https://www.cannaconnect.ca/wp-content/uploads/2024/10/welcome-11.png
END:VEVENT
BEGIN:VEVENT
DTSTART;TZID=America/Toronto:20241025T180000
DTEND;TZID=America/Toronto:20241025T200000
DTSTAMP:20260421T050332
CREATED:20241021T142241Z
LAST-MODIFIED:20241021T142241Z
UID:5340-1729879200-1729886400@www.cannaconnect.ca
SUMMARY:NEW MINAS- Halloween Party
DESCRIPTION:Join us at the New Minas Wellness Lounge for a family Halloween party! Games\, treats\, and meal provided.
URL:https://www.cannaconnect.ca/event/new-minas-halloween-party/
LOCATION:Local New Minas Wellness Lounge\, 9198 Commercial St\, New Minas\, Nova Scotia\, B4N 3E5\, Canada
CATEGORIES:New Minas
ATTACH;FMTTYPE=image/png:https://www.cannaconnect.ca/wp-content/uploads/2024/10/contact-info-11.png
END:VEVENT
BEGIN:VEVENT
DTSTART;TZID=America/Toronto:20241025T180000
DTEND;TZID=America/Toronto:20241025T203000
DTSTAMP:20260421T050332
CREATED:20241011T162646Z
LAST-MODIFIED:20241011T162646Z
UID:5314-1729879200-1729888200@www.cannaconnect.ca
SUMMARY:LOWER SACKVILLE- Halloween Party
DESCRIPTION:Join us for our annual Halloween party! Games for the kids\, prizes for costumes\, and snacks for all!
URL:https://www.cannaconnect.ca/event/lower-sackville-halloween-party/
LOCATION:Local Nova Scotia Wellness Lounge\, 463 Sackville Dr\, Lower Sackville\, Nova Scotia\, B4C2S1\, Canada
CATEGORIES:Nova Scotia
ATTACH;FMTTYPE=image/png:https://www.cannaconnect.ca/wp-content/uploads/2024/10/community-10.png
END:VEVENT
BEGIN:VEVENT
DTSTART;TZID=America/Toronto:20241026T100000
DTEND;TZID=America/Toronto:20241026T120000
DTSTAMP:20260421T050332
CREATED:20241022T150655Z
LAST-MODIFIED:20241022T150655Z
UID:5350-1729936800-1729944000@www.cannaconnect.ca
SUMMARY:OROMOCTO- Intro to Grip Sport/ Armlifting
DESCRIPTION:Join us on October 26th at the lounge\, for an Intro to Grip Sport/ Armlifting\, led by King Kong Comp! Pizza and wings to follow!
URL:https://www.cannaconnect.ca/event/oromocto-intro-to-grip-sport-armlifting/
LOCATION:Local Oromocto Wellness Lounge\, 261 Restigouche Rd #15\, Oromocto\, New Brunswick\, E2V2H1\, Canada
CATEGORIES:Oromocto
ATTACH;FMTTYPE=image/png:https://www.cannaconnect.ca/wp-content/uploads/2024/10/community-14.png
END:VEVENT
BEGIN:VEVENT
DTSTART;TZID=America/Toronto:20241028T093000
DTEND;TZID=America/Toronto:20241028T103000
DTSTAMP:20260421T050332
CREATED:20240816T160028Z
LAST-MODIFIED:20240816T160028Z
UID:5044-1730107800-1730111400@www.cannaconnect.ca
SUMMARY:KINGSTON- Yoga\, Breath & Meditation Series
DESCRIPTION:The Kingston Wellness lounge will be hosting a yoga\, breath and meditation series over the course of 12 weeks. \nMovement: Sept 9th\, 16th\, 23rd. 30th Beginner friendly\, exploring yoga movement and ones body. Intro into yoga poses and Movement. All levels of yoga experience welcome. We will explore how different poses can be done for all bodies and yoga experience. \nBreath work: Oct 7th\, 21st\, 28th\, Nov 4th We continue exploring our body with movement but add on the exploration of breath work. We will explore and practice different breathing techniques. \nMeditation: Nov 18th\, 25th\, Dec 2nd\, 9th We continue with the exploration of movement and breath but add on the exploration of meditation. No previous meditation experience needed. We start slow and try different meditations at various lengths. From guided meditations\, to meditations focused on just breath. \nPlease RSVP at patti@cannaconnect.ca
URL:https://www.cannaconnect.ca/event/kingston-yoga-breath-meditation-series/2024-10-28/
LOCATION:Local Kingston Wellness Lounge\, 7H-785 Sir John A MacDonald Blvd\, Kingston\, Ontario\, K7L1H3
CATEGORIES:Kingston
ATTACH;FMTTYPE=image/png:https://www.cannaconnect.ca/wp-content/uploads/2024/08/quote-8.png
END:VEVENT
BEGIN:VEVENT
DTSTART;TZID=America/Toronto:20241029T100000
DTEND;TZID=America/Toronto:20241029T140000
DTSTAMP:20260421T050332
CREATED:20240913T141201Z
LAST-MODIFIED:20240913T141201Z
UID:5157-1730196000-1730210400@www.cannaconnect.ca
SUMMARY:LOWER SACKVILLE- GUITAR TUESDAY
DESCRIPTION:Starting October 1st\, we will be having Guitar Tuesday at the Lounge\, led by Cole Foran! Beginner Lessons from 10am-12pm Advanced lessons from 1pm-2pm
URL:https://www.cannaconnect.ca/event/lower-sackville-guitar-tuesday/2024-10-29/
LOCATION:Local Nova Scotia Wellness Lounge\, 463 Sackville Dr\, Lower Sackville\, Nova Scotia\, B4C2S1\, Canada
CATEGORIES:Nova Scotia
ATTACH;FMTTYPE=image/png:https://www.cannaconnect.ca/wp-content/uploads/2024/09/community-5.png
END:VEVENT
BEGIN:VEVENT
DTSTART;TZID=America/Toronto:20241029T100000
DTEND;TZID=America/Toronto:20241029T150000
DTSTAMP:20260421T050332
CREATED:20240910T194143Z
LAST-MODIFIED:20240918T145250Z
UID:5124-1730196000-1730214000@www.cannaconnect.ca
SUMMARY:NEW MINAS- Guitar Lessons
DESCRIPTION:Join us in the lounge every Wednesday from 10-3pm for guitar classes led by Cole Foran! \nBeginner lessons in the morning and advanced in the afternoon.
URL:https://www.cannaconnect.ca/event/new-minas-guitar-lessons/2024-10-29/
LOCATION:Local New Minas Wellness Lounge\, 9198 Commercial St\, New Minas\, Nova Scotia\, B4N 3E5\, Canada
CATEGORIES:New Minas
ATTACH;FMTTYPE=image/png:https://www.cannaconnect.ca/wp-content/uploads/2024/09/Photography-Classes-1.png
END:VEVENT
BEGIN:VEVENT
DTSTART;TZID=America/Toronto:20241029T120000
DTEND;TZID=America/Toronto:20241029T130000
DTSTAMP:20260421T050332
CREATED:20240918T152235Z
LAST-MODIFIED:20240918T152235Z
UID:5212-1730203200-1730206800@www.cannaconnect.ca
SUMMARY:KINGSTON- GUITAR LESSONS
DESCRIPTION:Unlock the musician within! Learn to play guitar with your friends at the Kingston Lounge.
URL:https://www.cannaconnect.ca/event/kingston-guitar-lessons/2024-10-29/
LOCATION:Alberta
CATEGORIES:Kingston
ATTACH;FMTTYPE=image/png:https://www.cannaconnect.ca/wp-content/uploads/2024/09/testimonial-20.png
END:VEVENT
BEGIN:VEVENT
DTSTART;TZID=America/Toronto:20241029T130000
DTEND;TZID=America/Toronto:20241029T130000
DTSTAMP:20260421T050332
CREATED:20231220T214118Z
LAST-MODIFIED:20231220T214118Z
UID:4206-1730206800-1730206800@www.cannaconnect.ca
SUMMARY:TRENTON- Gentle Yoga
DESCRIPTION:Join us at the Trenton Wellness Lounge for gentle yoga classes! Please bring a small blanket\, comfortable clothes\, and a yoga mat.
URL:https://www.cannaconnect.ca/event/trenton-gentle-yoga/2024-10-29/
LOCATION:Local Trenton Wellness Lounge\, 255 Glen Miller Road\, Unit 12\, Trenton\, Ontario\, K8V 5P8\, Canada
CATEGORIES:Trenton
ATTACH;FMTTYPE=image/png:https://www.cannaconnect.ca/wp-content/uploads/2023/12/quote-18.png
END:VEVENT
BEGIN:VEVENT
DTSTART;TZID=America/Toronto:20241030T093000
DTEND;TZID=America/Toronto:20241030T123000
DTSTAMP:20260421T050332
CREATED:20240415T193525Z
LAST-MODIFIED:20240415T193525Z
UID:4701-1730280600-1730291400@www.cannaconnect.ca
SUMMARY:KINGSTON- Coffee and Chats
DESCRIPTION:Join us at the Kingston wellness lounge for coffee and chats. See old friends\, meet new ones!
URL:https://www.cannaconnect.ca/event/kingston-coffee-and-chats/2024-10-30/
LOCATION:Local Kingston Wellness Lounge\, 7H-785 Sir John A MacDonald Blvd\, Kingston\, Ontario\, K7L1H3
CATEGORIES:Kingston
ATTACH;FMTTYPE=image/png:https://www.cannaconnect.ca/wp-content/uploads/2024/04/quote-44.png
END:VEVENT
BEGIN:VEVENT
DTSTART;TZID=America/Toronto:20241030T100000
DTEND;TZID=America/Toronto:20241030T113000
DTSTAMP:20260421T050332
CREATED:20241022T134635Z
LAST-MODIFIED:20241022T134635Z
UID:5346-1730282400-1730287800@www.cannaconnect.ca
SUMMARY:ST. JOHN'S- Meet & Greet Breakfast
DESCRIPTION:Please come out to a Meet & Greet Breakfast at the Deer Lake Legion! Please RSVP to stevehurley2231@icloud.com
URL:https://www.cannaconnect.ca/event/st-johns-meet-greet-breakfast/
LOCATION:Local St John’s Wellness Lounge\, 874 Topsail Rd\, Mount Pearl\, Ontario\, Canada
CATEGORIES:St. John's
ATTACH;FMTTYPE=image/png:https://www.cannaconnect.ca/wp-content/uploads/2024/10/how-to-get-started-2.png
END:VEVENT
BEGIN:VEVENT
DTSTART;TZID=America/Toronto:20241030T100000
DTEND;TZID=America/Toronto:20241030T150000
DTSTAMP:20260421T050332
CREATED:20240910T194143Z
LAST-MODIFIED:20240910T194143Z
UID:5178-1730282400-1730300400@www.cannaconnect.ca
SUMMARY:NEW MINAS- Guitar Lessons
DESCRIPTION:Join us in the lounge every Wednesday from 10-3pm for guitar classes led by Cole Foran! \nBeginner lessons in the morning and advanced in the afternoon.
URL:https://www.cannaconnect.ca/event/new-minas-guitar-lessons/2024-10-30/
LOCATION:Local New Minas Wellness Lounge\, 9198 Commercial St\, New Minas\, Nova Scotia\, B4N 3E5\, Canada
CATEGORIES:New Minas
ATTACH;FMTTYPE=image/png:https://www.cannaconnect.ca/wp-content/uploads/2024/09/Photography-Classes-1.png
END:VEVENT
BEGIN:VEVENT
DTSTART;TZID=America/Toronto:20241030T110000
DTEND;TZID=America/Toronto:20241030T130000
DTSTAMP:20260421T050332
CREATED:20241022T184856Z
LAST-MODIFIED:20241022T184856Z
UID:5352-1730286000-1730293200@www.cannaconnect.ca
SUMMARY:LOWER SACKVILLE- Cannabis Education Session
DESCRIPTION:Join us for a Cannabis Education Session led by Jay Isenor!
URL:https://www.cannaconnect.ca/event/lower-sackville-cannabis-education-session/
LOCATION:Local Nova Scotia Wellness Lounge\, 463 Sackville Dr\, Lower Sackville\, Nova Scotia\, B4C2S1\, Canada
CATEGORIES:Nova Scotia
ATTACH;FMTTYPE=image/png:https://www.cannaconnect.ca/wp-content/uploads/2024/10/community-16.png
END:VEVENT
BEGIN:VEVENT
DTSTART;TZID=America/Toronto:20241030T130000
DTEND;TZID=America/Toronto:20241030T150000
DTSTAMP:20260421T050332
CREATED:20240919T155749Z
LAST-MODIFIED:20240919T155749Z
UID:5226-1730293200-1730300400@www.cannaconnect.ca
SUMMARY:OROMOCTO- Jam Session
DESCRIPTION:Join us at the Oromocto Wellness Lounge every Wednesday and jam with fellow musicians. All levels of skill are more than welcome!
URL:https://www.cannaconnect.ca/event/oromocto-jam-session/2024-10-30/
LOCATION:Local Oromocto Wellness Lounge\, 261 Restigouche Rd #15\, Oromocto\, New Brunswick\, E2V2H1\, Canada
CATEGORIES:Oromocto
ATTACH;FMTTYPE=image/png:https://www.cannaconnect.ca/wp-content/uploads/2024/09/quote-17.png
END:VEVENT
BEGIN:VEVENT
DTSTART;TZID=America/Toronto:20241030T180000
DTEND;TZID=America/Toronto:20241030T200000
DTSTAMP:20260421T050332
CREATED:20240919T161552Z
LAST-MODIFIED:20240919T161552Z
UID:5246-1730311200-1730318400@www.cannaconnect.ca
SUMMARY:OROMOCTO- Coffee and Convo
DESCRIPTION:Join us at the Oromocto Wellness Lounge every Wednesday evening for coffee and conversation! Bring a friend\, the more the merrier!
URL:https://www.cannaconnect.ca/event/oromocto-coffee-and-convo/2024-10-30/
LOCATION:Local Oromocto Wellness Lounge\, 261 Restigouche Rd #15\, Oromocto\, New Brunswick\, E2V2H1\, Canada
CATEGORIES:Oromocto
ATTACH;FMTTYPE=image/png:https://www.cannaconnect.ca/wp-content/uploads/2024/09/quote-18.png
END:VEVENT
BEGIN:VEVENT
DTSTART;TZID=America/Toronto:20241030T183000
DTEND;TZID=America/Toronto:20241030T183000
DTSTAMP:20260421T050332
CREATED:20240430T135231Z
LAST-MODIFIED:20240430T135231Z
UID:4789-1730313000-1730313000@www.cannaconnect.ca
SUMMARY:EDMONTON- Veterans Guitar Society Community of Practice (Introductory)
DESCRIPTION:We will be hosting our Alberta Veterans Guitar Society introduction to guitar at the Edmonton Wellness Lounge! \n\nPlease RSVP to Lorne at lorne@veteransguitar.com\, as class sizes will be limited.
URL:https://www.cannaconnect.ca/event/edmonton-veterans-guitar-society-community-of-practice-introductory/2024-10-30/
LOCATION:Local Edmonton Wellness Lounge\, 12510 128 Street Northwest\, Edmonton\, Alberta\, T5L 1C8\, Canada
CATEGORIES:Edmonton
ATTACH;FMTTYPE=image/png:https://www.cannaconnect.ca/wp-content/uploads/2024/04/events-6.png
END:VEVENT
BEGIN:VEVENT
DTSTART;TZID=America/Toronto:20241031T100000
DTEND;TZID=America/Toronto:20241031T113000
DTSTAMP:20260421T050332
CREATED:20240827T140000Z
LAST-MODIFIED:20240827T140057Z
UID:5078-1730368800-1730374200@www.cannaconnect.ca
SUMMARY:LOWER SACKVILLE- Monthly Breakfast
DESCRIPTION:Start your day at the Lower Sackville Wellness Lounge for a breakfast with all the fixings! Last Thursday of every month starting september 26th!
URL:https://www.cannaconnect.ca/event/lower-sackville-monthly-breakfast-2/2024-10-31/
LOCATION:Local Nova Scotia Wellness Lounge\, 463 Sackville Dr\, Lower Sackville\, Nova Scotia\, B4C2S1\, Canada
CATEGORIES:Nova Scotia
ATTACH;FMTTYPE=image/png:https://www.cannaconnect.ca/wp-content/uploads/2024/08/testimonial-15.png
END:VEVENT
BEGIN:VEVENT
DTSTART;TZID=America/Toronto:20241031T100000
DTEND;TZID=America/Toronto:20241031T120000
DTSTAMP:20260421T050332
CREATED:20241021T144219Z
LAST-MODIFIED:20241021T144219Z
UID:5344-1730368800-1730376000@www.cannaconnect.ca
SUMMARY:OROMOCTO- Halloween Pup Party
DESCRIPTION:Join us at the Oromocto Wellness Lounge for our very first Dog Halloween Costume Contest! Refreshments\, treats\, and prizes!
URL:https://www.cannaconnect.ca/event/oromocto-halloween-pup-party/
LOCATION:Local Oromocto Wellness Lounge\, 261 Restigouche Rd #15\, Oromocto\, New Brunswick\, E2V2H1\, Canada
CATEGORIES:Oromocto
ATTACH;FMTTYPE=image/png:https://www.cannaconnect.ca/wp-content/uploads/2024/10/quote-29.png
END:VEVENT
BEGIN:VEVENT
DTSTART;TZID=America/Toronto:20241031T100000
DTEND;TZID=America/Toronto:20241031T120000
DTSTAMP:20260421T050332
CREATED:20241022T190804Z
LAST-MODIFIED:20241022T190804Z
UID:5354-1730368800-1730376000@www.cannaconnect.ca
SUMMARY:LOWER SACKVILLE- Halloween Breakfast
DESCRIPTION:Join us for our monthly breakfast\, Halloween edition!
URL:https://www.cannaconnect.ca/event/lower-sackville-halloween-breakfast/
LOCATION:Local Nova Scotia Wellness Lounge\, 463 Sackville Dr\, Lower Sackville\, Nova Scotia\, B4C2S1\, Canada
CATEGORIES:Nova Scotia
ATTACH;FMTTYPE=image/png:https://www.cannaconnect.ca/wp-content/uploads/2024/10/community-17.png
END:VEVENT
BEGIN:VEVENT
DTSTART;TZID=America/Toronto:20241031T103000
DTEND;TZID=America/Toronto:20241031T123000
DTSTAMP:20260421T050332
CREATED:20240927T161149Z
LAST-MODIFIED:20240927T161149Z
UID:5294-1730370600-1730377800@www.cannaconnect.ca
SUMMARY:KINGSTON- Dungeons & Dragons
DESCRIPTION:Calling all adventurers! Join our intro to D & D group for epic quests and legendary fun.
URL:https://www.cannaconnect.ca/event/kingston-dungeons-dragons/2024-10-31/
LOCATION:Alberta
CATEGORIES:Kingston
ATTACH;FMTTYPE=image/png:https://www.cannaconnect.ca/wp-content/uploads/2024/09/quote-24.png
END:VEVENT
BEGIN:VEVENT
DTSTART;TZID=America/Toronto:20241031T110000
DTEND;TZID=America/Toronto:20241031T130000
DTSTAMP:20260421T050332
CREATED:20240927T161947Z
LAST-MODIFIED:20240927T161947Z
UID:5297-1730372400-1730379600@www.cannaconnect.ca
SUMMARY:PETAWAWA- Halloween Potluck
DESCRIPTION:Join us for a Halloween potluck! We will be serving BBQ\, please bring a side or desert to share. Best costume wins a prize!
URL:https://www.cannaconnect.ca/event/petawawa-halloween-potluck/
LOCATION:Local Petawawa Wellness Lounge\, 4-3025 Petawawa Blvd\, Petawawa\, Ontario\, Canada
CATEGORIES:Petawawa
ATTACH;FMTTYPE=image/png:https://www.cannaconnect.ca/wp-content/uploads/2024/09/quote-26.png
END:VEVENT
BEGIN:VEVENT
DTSTART;TZID=America/Toronto:20241031T113000
DTEND;TZID=America/Toronto:20241031T130000
DTSTAMP:20260421T050332
CREATED:20241011T164357Z
LAST-MODIFIED:20241011T164357Z
UID:5317-1730374200-1730379600@www.cannaconnect.ca
SUMMARY:TRENTON- Halloween Chili with Billy
DESCRIPTION:Join us for a Halloween Chili with Billy! Costumes are encouraged!
URL:https://www.cannaconnect.ca/event/trenton-halloween-chili-with-billy/
LOCATION:Local Trenton Wellness Lounge\, 255 Glen Miller Road\, Unit 12\, Trenton\, Ontario\, K8V 5P8\, Canada
CATEGORIES:Trenton
ATTACH;FMTTYPE=image/png:https://www.cannaconnect.ca/wp-content/uploads/2024/10/testimonial-25.png
END:VEVENT
BEGIN:VEVENT
DTSTART;TZID=America/Toronto:20241104T093000
DTEND;TZID=America/Toronto:20241104T103000
DTSTAMP:20260421T050332
CREATED:20240816T160028Z
LAST-MODIFIED:20240816T160028Z
UID:5045-1730712600-1730716200@www.cannaconnect.ca
SUMMARY:KINGSTON- Yoga\, Breath & Meditation Series
DESCRIPTION:The Kingston Wellness lounge will be hosting a yoga\, breath and meditation series over the course of 12 weeks. \nMovement: Sept 9th\, 16th\, 23rd. 30th Beginner friendly\, exploring yoga movement and ones body. Intro into yoga poses and Movement. All levels of yoga experience welcome. We will explore how different poses can be done for all bodies and yoga experience. \nBreath work: Oct 7th\, 21st\, 28th\, Nov 4th We continue exploring our body with movement but add on the exploration of breath work. We will explore and practice different breathing techniques. \nMeditation: Nov 18th\, 25th\, Dec 2nd\, 9th We continue with the exploration of movement and breath but add on the exploration of meditation. No previous meditation experience needed. We start slow and try different meditations at various lengths. From guided meditations\, to meditations focused on just breath. \nPlease RSVP at patti@cannaconnect.ca
URL:https://www.cannaconnect.ca/event/kingston-yoga-breath-meditation-series/2024-11-04/
LOCATION:Local Kingston Wellness Lounge\, 7H-785 Sir John A MacDonald Blvd\, Kingston\, Ontario\, K7L1H3
CATEGORIES:Kingston
ATTACH;FMTTYPE=image/png:https://www.cannaconnect.ca/wp-content/uploads/2024/08/quote-8.png
END:VEVENT
BEGIN:VEVENT
DTSTART;TZID=America/Toronto:20241104T103000
DTEND;TZID=America/Toronto:20241104T120000
DTSTAMP:20260421T050332
CREATED:20241021T142720Z
LAST-MODIFIED:20241021T142720Z
UID:5342-1730716200-1730721600@www.cannaconnect.ca
SUMMARY:LOWER SACKVILLE- Heroes Mending on the Fly
DESCRIPTION:Join us for a Heroes Mending on the Fly information session! Come learn about the start of the fly tying program here at the lounge.
URL:https://www.cannaconnect.ca/event/lower-sackville-heroes-mending-on-the-fly-2/
LOCATION:Local Nova Scotia Wellness Lounge\, 463 Sackville Dr\, Lower Sackville\, Nova Scotia\, B4C2S1\, Canada
CATEGORIES:Nova Scotia
ATTACH;FMTTYPE=image/png:https://www.cannaconnect.ca/wp-content/uploads/2024/10/community-13.png
END:VEVENT
BEGIN:VEVENT
DTSTART;TZID=America/Toronto:20241105T100000
DTEND;TZID=America/Toronto:20241105T140000
DTSTAMP:20260421T050332
CREATED:20240913T141201Z
LAST-MODIFIED:20240913T141201Z
UID:5158-1730800800-1730815200@www.cannaconnect.ca
SUMMARY:LOWER SACKVILLE- GUITAR TUESDAY
DESCRIPTION:Starting October 1st\, we will be having Guitar Tuesday at the Lounge\, led by Cole Foran! Beginner Lessons from 10am-12pm Advanced lessons from 1pm-2pm
URL:https://www.cannaconnect.ca/event/lower-sackville-guitar-tuesday/2024-11-05/
LOCATION:Local Nova Scotia Wellness Lounge\, 463 Sackville Dr\, Lower Sackville\, Nova Scotia\, B4C2S1\, Canada
CATEGORIES:Nova Scotia
ATTACH;FMTTYPE=image/png:https://www.cannaconnect.ca/wp-content/uploads/2024/09/community-5.png
END:VEVENT
BEGIN:VEVENT
DTSTART;TZID=America/Toronto:20241105T100000
DTEND;TZID=America/Toronto:20241105T150000
DTSTAMP:20260421T050332
CREATED:20240910T194143Z
LAST-MODIFIED:20240918T145251Z
UID:5125-1730800800-1730818800@www.cannaconnect.ca
SUMMARY:NEW MINAS- Guitar Lessons
DESCRIPTION:Join us in the lounge every Wednesday from 10-3pm for guitar classes led by Cole Foran! \nBeginner lessons in the morning and advanced in the afternoon.
URL:https://www.cannaconnect.ca/event/new-minas-guitar-lessons/2024-11-05/
LOCATION:Local New Minas Wellness Lounge\, 9198 Commercial St\, New Minas\, Nova Scotia\, B4N 3E5\, Canada
CATEGORIES:New Minas
ATTACH;FMTTYPE=image/png:https://www.cannaconnect.ca/wp-content/uploads/2024/09/Photography-Classes-1.png
END:VEVENT
BEGIN:VEVENT
DTSTART;TZID=America/Toronto:20241105T120000
DTEND;TZID=America/Toronto:20241105T130000
DTSTAMP:20260421T050332
CREATED:20240918T152235Z
LAST-MODIFIED:20240918T152235Z
UID:5213-1730808000-1730811600@www.cannaconnect.ca
SUMMARY:KINGSTON- GUITAR LESSONS
DESCRIPTION:Unlock the musician within! Learn to play guitar with your friends at the Kingston Lounge.
URL:https://www.cannaconnect.ca/event/kingston-guitar-lessons/2024-11-05/
LOCATION:Alberta
CATEGORIES:Kingston
ATTACH;FMTTYPE=image/png:https://www.cannaconnect.ca/wp-content/uploads/2024/09/testimonial-20.png
END:VEVENT
BEGIN:VEVENT
DTSTART;TZID=America/Toronto:20241105T130000
DTEND;TZID=America/Toronto:20241105T130000
DTSTAMP:20260421T050332
CREATED:20231220T214118Z
LAST-MODIFIED:20231220T214118Z
UID:4207-1730811600-1730811600@www.cannaconnect.ca
SUMMARY:TRENTON- Gentle Yoga
DESCRIPTION:Join us at the Trenton Wellness Lounge for gentle yoga classes! Please bring a small blanket\, comfortable clothes\, and a yoga mat.
URL:https://www.cannaconnect.ca/event/trenton-gentle-yoga/2024-11-05/
LOCATION:Local Trenton Wellness Lounge\, 255 Glen Miller Road\, Unit 12\, Trenton\, Ontario\, K8V 5P8\, Canada
CATEGORIES:Trenton
ATTACH;FMTTYPE=image/png:https://www.cannaconnect.ca/wp-content/uploads/2023/12/quote-18.png
END:VEVENT
BEGIN:VEVENT
DTSTART;TZID=America/Toronto:20241106T090000
DTEND;TZID=America/Toronto:20241106T110000
DTSTAMP:20260421T050332
CREATED:20240927T173537Z
LAST-MODIFIED:20240927T173537Z
UID:5302-1730883600-1730890800@www.cannaconnect.ca
SUMMARY:PETAWAWA- Breakfast at the Lounge
DESCRIPTION:Join us for a delicious hot breakfast at the Petawawa Wellness Lounge!
URL:https://www.cannaconnect.ca/event/petawawa-breakfast-at-the-lounge/2024-11-06/
LOCATION:Alberta
CATEGORIES:Petawawa
ATTACH;FMTTYPE=image/png:https://www.cannaconnect.ca/wp-content/uploads/2024/09/contact-2.png
END:VEVENT
END:VCALENDAR