BEGIN:VCALENDAR
VERSION:2.0
PRODID:-//CannaConnect - ECPv6.10.0//NONSGML v1.0//EN
CALSCALE:GREGORIAN
METHOD:PUBLISH
X-WR-CALNAME:CannaConnect
X-ORIGINAL-URL:https://www.cannaconnect.ca
X-WR-CALDESC:Events for CannaConnect
REFRESH-INTERVAL;VALUE=DURATION:PT1H
X-Robots-Tag:noindex
X-PUBLISHED-TTL:PT1H
BEGIN:VTIMEZONE
TZID:America/Toronto
BEGIN:DAYLIGHT
TZOFFSETFROM:-0500
TZOFFSETTO:-0400
TZNAME:EDT
DTSTART:20260308T070000
END:DAYLIGHT
BEGIN:STANDARD
TZOFFSETFROM:-0400
TZOFFSETTO:-0500
TZNAME:EST
DTSTART:20261101T060000
END:STANDARD
END:VTIMEZONE
BEGIN:VEVENT
DTSTART;TZID=America/Toronto:20260218T110000
DTEND;TZID=America/Toronto:20260218T120000
DTSTAMP:20260422T062058
CREATED:20260204T161734Z
LAST-MODIFIED:20260204T161734Z
UID:7551-1771412400-1771416000@www.cannaconnect.ca
SUMMARY:LOWER SACKVILLE- Info Session: Rural Route Transportation Services
DESCRIPTION:Join us for an information session on Rural Route Transportation Services\, a transportation service to help Veterans get to and from appointments.
URL:https://www.cannaconnect.ca/event/lower-sackville-info-session-rural-route-transportation-services/
LOCATION:Local Nova Scotia Wellness Lounge\, 463 Sackville Dr\, Lower Sackville\, Nova Scotia\, B4C2S1\, Canada
CATEGORIES:Nova Scotia
ATTACH;FMTTYPE=image/jpeg:https://www.cannaconnect.ca/wp-content/uploads/2026/02/community-23.jpg
END:VEVENT
END:VCALENDAR