BEGIN:VCALENDAR
VERSION:2.0
PRODID:-//CannaConnect - ECPv6.10.0//NONSGML v1.0//EN
CALSCALE:GREGORIAN
METHOD:PUBLISH
X-ORIGINAL-URL:https://www.cannaconnect.ca
X-WR-CALDESC:Events for CannaConnect
REFRESH-INTERVAL;VALUE=DURATION:PT1H
X-Robots-Tag:noindex
X-PUBLISHED-TTL:PT1H
BEGIN:VTIMEZONE
TZID:America/Toronto
BEGIN:DAYLIGHT
TZOFFSETFROM:-0500
TZOFFSETTO:-0400
TZNAME:EDT
DTSTART:20260308T070000
END:DAYLIGHT
BEGIN:STANDARD
TZOFFSETFROM:-0400
TZOFFSETTO:-0500
TZNAME:EST
DTSTART:20261101T060000
END:STANDARD
END:VTIMEZONE
BEGIN:VEVENT
DTSTART;TZID=America/Toronto:20260309T093000
DTEND;TZID=America/Toronto:20260309T103000
DTSTAMP:20260420T122841
CREATED:20260108T175623Z
LAST-MODIFIED:20260108T175623Z
UID:7192-1773048600-1773052200@www.cannaconnect.ca
SUMMARY:KINGSTON- Monday Yoga
DESCRIPTION:Join us every Monday for Yoga sessions!\nCoach Ulanda offers an easygoing\, relaxing and laid back style. You will notice improvement in your movement\, strength and pain management
URL:https://www.cannaconnect.ca/event/kingston-monday-yoga-2/2026-03-09/
LOCATION:Local Kingston Wellness Lounge\, 7H-785 Sir John A MacDonald Blvd\, Kingston\, Ontario\, K7L1H3
CATEGORIES:Kingston
ATTACH;FMTTYPE=image/jpeg:https://www.cannaconnect.ca/wp-content/uploads/2026/01/quote-31.jpg
END:VEVENT
BEGIN:VEVENT
DTSTART;TZID=America/Toronto:20260309T110000
DTEND;TZID=America/Toronto:20260309T133000
DTSTAMP:20260420T122841
CREATED:20260127T151454Z
LAST-MODIFIED:20260127T151454Z
UID:7383-1773054000-1773063000@www.cannaconnect.ca
SUMMARY:OROMOCTO- Weekly Snowshoeing
DESCRIPTION:Come on out and join Oromocto CannaConnect for weekly snowshoeing every Monday! The planned route is approx. 2.5km. Please bring your own snowshoes.
URL:https://www.cannaconnect.ca/event/oromocto-weekly-snowshoeing/2026-03-09/
LOCATION:Local Oromocto Wellness Lounge\, 261 Restigouche Rd #15\, Oromocto\, New Brunswick\, E2V2H1\, Canada
CATEGORIES:Oromocto
ATTACH;FMTTYPE=image/png:https://www.cannaconnect.ca/wp-content/uploads/2026/01/contact-info-29.png
END:VEVENT
BEGIN:VEVENT
DTSTART;TZID=America/Toronto:20260309T130000
DTEND;TZID=America/Toronto:20260309T143000
DTSTAMP:20260420T122841
CREATED:20251007T144228Z
LAST-MODIFIED:20251007T144228Z
UID:6770-1773061200-1773066600@www.cannaconnect.ca
SUMMARY:St. JOHN'S- Fly Tying
DESCRIPTION:Join us at the St. John’s Lounge on Monday afternoons for fly tying!
URL:https://www.cannaconnect.ca/event/st-johns-fly-tying/2026-03-09/
LOCATION:Local St John’s Wellness Lounge\, 874 Topsail Rd\, Mount Pearl\, Ontario\, Canada
CATEGORIES:St. John's
ATTACH;FMTTYPE=image/jpeg:https://www.cannaconnect.ca/wp-content/uploads/2025/10/how-to-get-started-5.jpg
END:VEVENT
BEGIN:VEVENT
DTSTART;TZID=America/Toronto:20260309T180000
DTEND;TZID=America/Toronto:20260309T190000
DTSTAMP:20260420T122841
CREATED:20260305T143102Z
LAST-MODIFIED:20260305T143102Z
UID:7717-1773079200-1773082800@www.cannaconnect.ca
SUMMARY:OTTAWA- Stretch Into Spring
DESCRIPTION:Join us on Monday nights in March for Beginner Yoga with Scott Atkinson! Wear comfortable clothing\, mats are provided. Friends and families are welcome!
URL:https://www.cannaconnect.ca/event/ottawa-stretch-into-spring/2026-03-09/
LOCATION:Local Ottawa Wellness Lounge\, 215 Menten Pl\, Nepean\, Ontario\, K2H 9C1\, Canada
CATEGORIES:Ottawa
ATTACH;FMTTYPE=image/png:https://www.cannaconnect.ca/wp-content/uploads/2026/03/welcome-96.png
END:VEVENT
END:VCALENDAR