BEGIN:VCALENDAR
VERSION:2.0
PRODID:-//CannaConnect - ECPv6.10.0//NONSGML v1.0//EN
CALSCALE:GREGORIAN
METHOD:PUBLISH
X-ORIGINAL-URL:https://www.cannaconnect.ca
X-WR-CALDESC:Events for CannaConnect
REFRESH-INTERVAL;VALUE=DURATION:PT1H
X-Robots-Tag:noindex
X-PUBLISHED-TTL:PT1H
BEGIN:VTIMEZONE
TZID:America/Toronto
BEGIN:DAYLIGHT
TZOFFSETFROM:-0500
TZOFFSETTO:-0400
TZNAME:EDT
DTSTART:20260308T070000
END:DAYLIGHT
BEGIN:STANDARD
TZOFFSETFROM:-0400
TZOFFSETTO:-0500
TZNAME:EST
DTSTART:20261101T060000
END:STANDARD
END:VTIMEZONE
BEGIN:VEVENT
DTSTART;TZID=America/Toronto:20260303T080000
DTEND;TZID=America/Toronto:20260303T170000
DTSTAMP:20260422T075638
CREATED:20260203T202844Z
LAST-MODIFIED:20260203T202844Z
UID:7442-1772524800-1772557200@www.cannaconnect.ca
SUMMARY:CLOVERDALE- Coffee Days
DESCRIPTION:Join us every Tuesday and Thursday at the Cloverdale Wellness Lounge for coffee and conversation.
URL:https://www.cannaconnect.ca/event/cloverdale-coffee-days/2026-03-03/
LOCATION:Cloverdale Wellness Lounge\, 104- 6525 177B St\, Surrey\, BC\, Canada
CATEGORIES:Cloverdale
ATTACH;FMTTYPE=image/jpeg:https://www.cannaconnect.ca/wp-content/uploads/2026/02/tips-2.jpg
END:VEVENT
BEGIN:VEVENT
DTSTART;TZID=America/Toronto:20260303T100000
DTEND;TZID=America/Toronto:20260303T120000
DTSTAMP:20260422T075638
CREATED:20250313T192844Z
LAST-MODIFIED:20250313T192844Z
UID:6640-1772532000-1772539200@www.cannaconnect.ca
SUMMARY:PETAWAWA- Music Healing Veterans
DESCRIPTION:Feel the rhythm and play along with fellow Veterans\, Tuesday mornings at the Petawawa Wellness Lounge! \nWhether you’re a beginner or looking to improve your skills\, Buck is here to help you on your musical journey. Experience the joy of creativity and camaraderie while making lasting friendships!
URL:https://www.cannaconnect.ca/event/petawawa-music-healing-veterans/2026-03-03/
LOCATION:Local Petawawa Wellness Lounge\, 4-3025 Petawawa Blvd\, Petawawa\, Ontario\, Canada
CATEGORIES:Petawawa
ATTACH;FMTTYPE=image/jpeg:https://www.cannaconnect.ca/wp-content/uploads/2025/03/Event.jpg
END:VEVENT
BEGIN:VEVENT
DTSTART;TZID=America/Toronto:20260303T100000
DTEND;TZID=America/Toronto:20260303T130000
DTSTAMP:20260422T075638
CREATED:20251029T141842Z
LAST-MODIFIED:20251029T141842Z
UID:6927-1772532000-1772542800@www.cannaconnect.ca
SUMMARY:LOWER SACKVILLE- Guitar Lessons
DESCRIPTION:Every Tuesday!\nBeginners: 10:00 am -1130 am\nAdvanced: 1130 am-1 pm
URL:https://www.cannaconnect.ca/event/lower-sackville-guitar-lessons/2026-03-03/
LOCATION:Local Nova Scotia Wellness Lounge\, 463 Sackville Dr\, Lower Sackville\, Nova Scotia\, B4C2S1\, Canada
CATEGORIES:Nova Scotia
END:VEVENT
BEGIN:VEVENT
DTSTART;TZID=America/Toronto:20260303T103000
DTEND;TZID=America/Toronto:20260303T123000
DTSTAMP:20260422T075638
CREATED:20251111T183115Z
LAST-MODIFIED:20251111T183115Z
UID:7022-1772533800-1772541000@www.cannaconnect.ca
SUMMARY:NEW MINAS- Fly Tying Tuesdays
DESCRIPTION:Join us every Tuesday for fly tying fun\, Starting November 18th.\nOpen to those with fly tying experience — please bring your own gear.
URL:https://www.cannaconnect.ca/event/new-minas-fly-tying-tuesdays/2026-03-03/
LOCATION:Alberta
CATEGORIES:New Minas
ATTACH;FMTTYPE=image/jpeg:https://www.cannaconnect.ca/wp-content/uploads/2025/11/community-21.jpg
END:VEVENT
BEGIN:VEVENT
DTSTART;TZID=America/Toronto:20260303T120000
DTEND;TZID=America/Toronto:20260303T140000
DTSTAMP:20260422T075638
CREATED:20260109T185843Z
LAST-MODIFIED:20260109T190011Z
UID:7258-1772539200-1772546400@www.cannaconnect.ca
SUMMARY:KINGSTON- Guitar Lessons with Rick!
DESCRIPTION:Come Join us every Tuesday! All levels of experience welcome. Light refreshments will be provided. You’re welcome to bring your own guitar\, or you can use one of ours available on-site. Lessons will continue weekly as long as there is interest.
URL:https://www.cannaconnect.ca/event/kingston-guitar-lessons-with-rick/2026-03-03/
LOCATION:Local Kingston Wellness Lounge\, 7H-785 Sir John A MacDonald Blvd\, Kingston\, Ontario\, K7L1H3
CATEGORIES:Kingston
ATTACH;FMTTYPE=image/jpeg:https://www.cannaconnect.ca/wp-content/uploads/2026/01/quote-34.jpg
END:VEVENT
BEGIN:VEVENT
DTSTART;TZID=America/Toronto:20260303T130000
DTEND;TZID=America/Toronto:20260303T130000
DTSTAMP:20260422T075638
CREATED:20231220T214118Z
LAST-MODIFIED:20231220T214118Z
UID:4487-1772542800-1772542800@www.cannaconnect.ca
SUMMARY:TRENTON- Gentle Yoga
DESCRIPTION:Join us at the Trenton Wellness Lounge for gentle yoga classes! Please bring a small blanket\, comfortable clothes\, and a yoga mat.
URL:https://www.cannaconnect.ca/event/trenton-gentle-yoga/2026-03-03/
LOCATION:Local Trenton Wellness Lounge\, 255 Glen Miller Road\, Unit 12\, Trenton\, Ontario\, K8V 5P8\, Canada
CATEGORIES:Trenton
ATTACH;FMTTYPE=image/png:https://www.cannaconnect.ca/wp-content/uploads/2023/12/quote-18.png
END:VEVENT
BEGIN:VEVENT
DTSTART;TZID=America/Toronto:20260303T130000
DTEND;TZID=America/Toronto:20260303T140000
DTSTAMP:20260422T075638
CREATED:20251006T185347Z
LAST-MODIFIED:20251006T185347Z
UID:6742-1772542800-1772546400@www.cannaconnect.ca
SUMMARY:OROMOCTO- Guitar Lessons
DESCRIPTION:Join us at the Oromocto Lounge for weekly guitar lessons with Ed Korpan. Every Tuesday starting October 14.
URL:https://www.cannaconnect.ca/event/oromocto-guitar-lessons-2/2026-03-03/
LOCATION:Local Oromocto Wellness Lounge\, 261 Restigouche Rd #15\, Oromocto\, New Brunswick\, E2V2H1\, Canada
CATEGORIES:Oromocto
ATTACH;FMTTYPE=image/png:https://www.cannaconnect.ca/wp-content/uploads/2025/10/contact-info-13.png
END:VEVENT
BEGIN:VEVENT
DTSTART;TZID=America/Toronto:20260303T130000
DTEND;TZID=America/Toronto:20260303T150000
DTSTAMP:20260422T075638
CREATED:20260119T184622Z
LAST-MODIFIED:20260119T184622Z
UID:7339-1772542800-1772550000@www.cannaconnect.ca
SUMMARY:PETAWAWA- Heroes Mending on the Fly
DESCRIPTION:Join us at the Petawawa Lounge for a hands-on fly fishing program designed for ill or injured Veterans and First Responders. Running Tuesday weekly until May.\n📩 To register:\nEmail Derek Crane at cranerxj73@hotmail.com\n📞 Or call 613-281-3995
URL:https://www.cannaconnect.ca/event/petawawa-heroes-mending-on-the-fly/2026-03-03/
LOCATION:Local Petawawa Wellness Lounge\, 4-3025 Petawawa Blvd\, Petawawa\, Ontario\, Canada
CATEGORIES:Petawawa
ATTACH;FMTTYPE=image/png:https://www.cannaconnect.ca/wp-content/uploads/2026/01/contact-22.png
END:VEVENT
END:VCALENDAR