BEGIN:VCALENDAR
VERSION:2.0
PRODID:-//CannaConnect - ECPv6.10.0//NONSGML v1.0//EN
CALSCALE:GREGORIAN
METHOD:PUBLISH
X-ORIGINAL-URL:https://www.cannaconnect.ca
X-WR-CALDESC:Events for CannaConnect
REFRESH-INTERVAL;VALUE=DURATION:PT1H
X-Robots-Tag:noindex
X-PUBLISHED-TTL:PT1H
BEGIN:VTIMEZONE
TZID:America/Toronto
BEGIN:DAYLIGHT
TZOFFSETFROM:-0500
TZOFFSETTO:-0400
TZNAME:EDT
DTSTART:20250309T070000
END:DAYLIGHT
BEGIN:STANDARD
TZOFFSETFROM:-0400
TZOFFSETTO:-0500
TZNAME:EST
DTSTART:20251102T060000
END:STANDARD
END:VTIMEZONE
BEGIN:VEVENT
DTSTART;TZID=America/Toronto:20251110T100000
DTEND;TZID=America/Toronto:20251110T120000
DTSTAMP:20260422T081336
CREATED:20250902T142413Z
LAST-MODIFIED:20250902T142413Z
UID:6496-1762768800-1762776000@www.cannaconnect.ca
SUMMARY:OROMOCTO- Volunteer Visit
DESCRIPTION:Leslie Lecour is returning to volunteer at CannaConnect Oromocto starting September 15\, 2025!\n📍 Where: Oromocto Clinic\n 📅 When: Every second Monday morning\n ⏰ Time: 10:00 AM – 12:00 PM\nLeslie will be available to:\nAnswer questions and address concerns.\nShare information on VAC benefits and programs.\n📞 Book Your Appointment: Call the Oromocto CannaConnect Clinic at (506) 300-0390.
URL:https://www.cannaconnect.ca/event/oromocto-volunteer-visit/2025-11-10/
LOCATION:Alberta
CATEGORIES:Oromocto
ATTACH;FMTTYPE=image/jpeg:https://www.cannaconnect.ca/wp-content/uploads/2025/09/quote-11.jpg
END:VEVENT
BEGIN:VEVENT
DTSTART;TZID=America/Toronto:20251110T110000
DTEND;TZID=America/Toronto:20251110T130000
DTSTAMP:20260422T081336
CREATED:20251028T140344Z
LAST-MODIFIED:20251028T140344Z
UID:6883-1762772400-1762779600@www.cannaconnect.ca
SUMMARY:KINGSTON- Table Games
DESCRIPTION:Join us at the Kingston Lounge for Table games every Monday in November!\nAll November long\, test your luck at Blackjack\, Roulette\, and Craps!\nTop player wins bragging rights and a trophy!
URL:https://www.cannaconnect.ca/event/kingston-table-games/2025-11-10/
LOCATION:Local Kingston Wellness Lounge\, 7H-785 Sir John A MacDonald Blvd\, Kingston\, Ontario\, K7L1H3
CATEGORIES:Kingston
ATTACH;FMTTYPE=image/jpeg:https://www.cannaconnect.ca/wp-content/uploads/2025/10/quote-24.jpg
END:VEVENT
BEGIN:VEVENT
DTSTART;TZID=America/Toronto:20251110T130000
DTEND;TZID=America/Toronto:20251110T143000
DTSTAMP:20260422T081336
CREATED:20251007T144228Z
LAST-MODIFIED:20251007T144228Z
UID:6753-1762779600-1762785000@www.cannaconnect.ca
SUMMARY:St. JOHN'S- Fly Tying
DESCRIPTION:Join us at the St. John’s Lounge on Monday afternoons for fly tying!
URL:https://www.cannaconnect.ca/event/st-johns-fly-tying/2025-11-10/
LOCATION:Local St John’s Wellness Lounge\, 874 Topsail Rd\, Mount Pearl\, Ontario\, Canada
CATEGORIES:St. John's
ATTACH;FMTTYPE=image/jpeg:https://www.cannaconnect.ca/wp-content/uploads/2025/10/how-to-get-started-5.jpg
END:VEVENT
END:VCALENDAR