BEGIN:VCALENDAR
VERSION:2.0
PRODID:-//CannaConnect - ECPv6.10.0//NONSGML v1.0//EN
CALSCALE:GREGORIAN
METHOD:PUBLISH
X-ORIGINAL-URL:https://www.cannaconnect.ca
X-WR-CALDESC:Events for CannaConnect
REFRESH-INTERVAL;VALUE=DURATION:PT1H
X-Robots-Tag:noindex
X-PUBLISHED-TTL:PT1H
BEGIN:VTIMEZONE
TZID:America/Toronto
BEGIN:DAYLIGHT
TZOFFSETFROM:-0500
TZOFFSETTO:-0400
TZNAME:EDT
DTSTART:20250309T070000
END:DAYLIGHT
BEGIN:STANDARD
TZOFFSETFROM:-0400
TZOFFSETTO:-0500
TZNAME:EST
DTSTART:20251102T060000
END:STANDARD
END:VTIMEZONE
BEGIN:VEVENT
DTSTART;TZID=America/Toronto:20250911T090000
DTEND;TZID=America/Toronto:20250911T180000
DTSTAMP:20260422T074826
CREATED:20250828T163221Z
LAST-MODIFIED:20250828T163221Z
UID:6485-1757581200-1757613600@www.cannaconnect.ca
SUMMARY:EDMONTON- Annual RCMP Golf Tournament
DESCRIPTION:The Edmonton Wellness Lounge will be closed as we help support the Annual RCMP Golf Tournament at the Edmonton Garrison Memorial Golf & Curling Club.\nBreakfast/Games/Registration: 7:30 to 8:45 am. Shotgun start: 9:00 AM
URL:https://www.cannaconnect.ca/event/edmonton-annual-rcmp-golf-tournament/
LOCATION:Edmonton Garrison Memorial Golf & Curling Club\, 298 Falaise Avenue\, Lancaster Park\, Alberta\, T0A 2H0\, Canada
CATEGORIES:Edmonton
ATTACH;FMTTYPE=image/png:https://www.cannaconnect.ca/wp-content/uploads/2025/08/infographic-funfactfaq-14.png
END:VEVENT
BEGIN:VEVENT
DTSTART;TZID=America/Toronto:20250911T100000
DTEND;TZID=America/Toronto:20250911T113000
DTSTAMP:20260422T074826
CREATED:20250811T173839Z
LAST-MODIFIED:20250811T173839Z
UID:6458-1757584800-1757590200@www.cannaconnect.ca
SUMMARY:ST. JOHN'S- Thursday Breakfast
DESCRIPTION:Weekly Thursday Breakfast is Back! \nJoin us at the lounge for a hearty Newfoundland Breakfast featuring Fish n’ Brewis\, bologna\, eggs\, and toast.\nEnjoy fresh coffee\, tea\, and juice to start your day right! Starting August 14th.
URL:https://www.cannaconnect.ca/event/st-johns-thursday-breakfast/2025-09-11/
LOCATION:Local St John’s Wellness Lounge\, 874 Topsail Rd\, Mount Pearl\, Ontario\, Canada
CATEGORIES:St. John's
ATTACH;FMTTYPE=image/jpeg:https://www.cannaconnect.ca/wp-content/uploads/2025/08/st-johns.jpg
END:VEVENT
BEGIN:VEVENT
DTSTART;TZID=America/Toronto:20250911T100000
DTEND;TZID=America/Toronto:20250911T113000
DTSTAMP:20260422T074826
CREATED:20250908T162614Z
LAST-MODIFIED:20250908T162614Z
UID:6568-1757584800-1757590200@www.cannaconnect.ca
SUMMARY:ST. JOHN'S - Breakfast at the Lounge
DESCRIPTION:Join us at the St. John’s Wellness lounge this Thursday for breakfast! Waffle bar with bacon & sausage. Pop by and welcome Butch home!
URL:https://www.cannaconnect.ca/event/st-johns-breakfast-at-the-lounge/
LOCATION:Local St John’s Wellness Lounge\, 874 Topsail Rd\, Mount Pearl\, Ontario\, Canada
CATEGORIES:St. John's
ATTACH;FMTTYPE=image/jpeg:https://www.cannaconnect.ca/wp-content/uploads/2025/09/how-to-get-started-4.jpg
END:VEVENT
BEGIN:VEVENT
DTSTART;TZID=America/Toronto:20250911T100000
DTEND;TZID=America/Toronto:20250911T120000
DTSTAMP:20260422T074826
CREATED:20250203T144655Z
LAST-MODIFIED:20250203T144655Z
UID:5797-1757584800-1757592000@www.cannaconnect.ca
SUMMARY:EDMONTON- Coffee Time
DESCRIPTION:Join us Thursday mornings at the Edmonton Wellness lounge for your morning brew!
URL:https://www.cannaconnect.ca/event/edmonton-coffee-time/2025-09-11/
LOCATION:Local Edmonton Wellness Lounge\, 12510 128 Street Northwest\, Edmonton\, Alberta\, T5L 1C8\, Canada
CATEGORIES:Edmonton
ATTACH;FMTTYPE=image/png:https://www.cannaconnect.ca/wp-content/uploads/2025/02/quote-51.png
END:VEVENT
BEGIN:VEVENT
DTSTART;TZID=America/Toronto:20250911T150000
DTEND;TZID=America/Toronto:20250911T170000
DTSTAMP:20260422T074826
CREATED:20250627T170516Z
LAST-MODIFIED:20250627T170516Z
UID:6353-1757602800-1757610000@www.cannaconnect.ca
SUMMARY:ST. JOHN'S- Summer BBQ'S
DESCRIPTION:Join us every second Thursday throughout the summer for a BBQ! Beginning July 3rd.  \nLook forward to seeing you!
URL:https://www.cannaconnect.ca/event/st-johns-summer-bbqs/2025-09-11/
LOCATION:Local St John’s Wellness Lounge\, 874 Topsail Rd\, Mount Pearl\, Ontario\, Canada
CATEGORIES:St. John's
ATTACH;FMTTYPE=image/jpeg:https://www.cannaconnect.ca/wp-content/uploads/2025/06/how-to-get-started.jpg
END:VEVENT
BEGIN:VEVENT
DTSTART;TZID=America/Toronto:20250911T190000
DTEND;TZID=America/Toronto:20250911T203000
DTSTAMP:20260422T074826
CREATED:20250908T162007Z
LAST-MODIFIED:20250908T162007Z
UID:6546-1757617200-1757622600@www.cannaconnect.ca
SUMMARY:ST.JOHN'S- Music with Healing Rhythm for Veterans
DESCRIPTION:Join us every Thursday evening for Music with Healing Rhythms for Veterans. No experience needed.
URL:https://www.cannaconnect.ca/event/st-johns-music-with-healing-rhythm-for-veterans/2025-09-11/
LOCATION:Local St John’s Wellness Lounge\, 874 Topsail Rd\, Mount Pearl\, Ontario\, Canada
CATEGORIES:St. John's
ATTACH;FMTTYPE=image/jpeg:https://www.cannaconnect.ca/wp-content/uploads/2025/09/how-to-get-started-3.jpg
END:VEVENT
END:VCALENDAR