BEGIN:VCALENDAR
VERSION:2.0
PRODID:-//CannaConnect - ECPv6.10.0//NONSGML v1.0//EN
CALSCALE:GREGORIAN
METHOD:PUBLISH
X-WR-CALNAME:CannaConnect
X-ORIGINAL-URL:https://www.cannaconnect.ca
X-WR-CALDESC:Events for CannaConnect
REFRESH-INTERVAL;VALUE=DURATION:PT1H
X-Robots-Tag:noindex
X-PUBLISHED-TTL:PT1H
BEGIN:VTIMEZONE
TZID:America/Toronto
BEGIN:DAYLIGHT
TZOFFSETFROM:-0500
TZOFFSETTO:-0400
TZNAME:EDT
DTSTART:20250309T070000
END:DAYLIGHT
BEGIN:STANDARD
TZOFFSETFROM:-0400
TZOFFSETTO:-0500
TZNAME:EST
DTSTART:20251102T060000
END:STANDARD
END:VTIMEZONE
BEGIN:VEVENT
DTSTART;TZID=America/Toronto:20250813T100000
DTEND;TZID=America/Toronto:20250813T130000
DTSTAMP:20260422T074447
CREATED:20250321T181338Z
LAST-MODIFIED:20250321T181338Z
UID:6074-1755079200-1755090000@www.cannaconnect.ca
SUMMARY:NEW MINAS- Guitar Lessons
DESCRIPTION:Join us in the lounge every Wednesday for guitar lessons with Cole. \nBeginner 10 am-11:30 am \nAdvanced 11:30 am-1 pm
URL:https://www.cannaconnect.ca/event/new-minas-guitar-lessons-2/2025-08-13/
LOCATION:Alberta
CATEGORIES:New Minas
ATTACH;FMTTYPE=image/jpeg:https://www.cannaconnect.ca/wp-content/uploads/2025/03/weekly-Jam-3.jpg
END:VEVENT
BEGIN:VEVENT
DTSTART;TZID=America/Toronto:20250813T110000
DTEND;TZID=America/Toronto:20250813T123000
DTSTAMP:20260422T074447
CREATED:20250505T135432Z
LAST-MODIFIED:20250505T140555Z
UID:6251-1755082800-1755088200@www.cannaconnect.ca
SUMMARY:OROMOCTO- Wednesday Walking Group
DESCRIPTION:Join us for our Wednesday walking group at the Oromocto Wetlands!
URL:https://www.cannaconnect.ca/event/oromocto-wednesday-walking-group/2025-08-13/
LOCATION:Local Oromocto Wellness Lounge\, 261 Restigouche Rd #15\, Oromocto\, New Brunswick\, E2V2H1\, Canada
CATEGORIES:Oromocto
ATTACH;FMTTYPE=image/png:https://www.cannaconnect.ca/wp-content/uploads/2025/05/contact-info-36.png
END:VEVENT
BEGIN:VEVENT
DTSTART;TZID=America/Toronto:20250813T120000
DTEND;TZID=America/Toronto:20250813T143000
DTSTAMP:20260422T074447
CREATED:20250305T183740Z
LAST-MODIFIED:20250305T183740Z
UID:5964-1755086400-1755095400@www.cannaconnect.ca
SUMMARY:PETAWAWA- Weekly Lunch Social
DESCRIPTION:Looking to connect with like-minded individuals in the Veteran community? Join us for our weekly Lunch Social! Whether you’re a seasoned client or just curious about the lounge\, this is the perfect opportunity to have great conversation\, share ideas\, and enjoy great food.
URL:https://www.cannaconnect.ca/event/petawawa-weekly-lunch-social/2025-08-13/
LOCATION:Alberta
CATEGORIES:Petawawa
ATTACH;FMTTYPE=image/jpeg:https://www.cannaconnect.ca/wp-content/uploads/2025/03/contact-8.jpg
END:VEVENT
BEGIN:VEVENT
DTSTART;TZID=America/Toronto:20250813T190000
DTEND;TZID=America/Toronto:20250813T203000
DTSTAMP:20260422T074447
CREATED:20250225T154328Z
LAST-MODIFIED:20250225T154328Z
UID:5887-1755111600-1755117000@www.cannaconnect.ca
SUMMARY:ST. JOHN'S- GAMES NIGHT
DESCRIPTION:Join us at the St. John’s Wellness lounge Wednesday evenings for a game of cards!
URL:https://www.cannaconnect.ca/event/st-johns-games-night/2025-08-13/
LOCATION:Alberta
CATEGORIES:St. John's
ATTACH;FMTTYPE=image/jpeg:https://www.cannaconnect.ca/wp-content/uploads/2025/02/how-to-get-started-5.jpg
END:VEVENT
END:VCALENDAR