BEGIN:VCALENDAR
VERSION:2.0
PRODID:-//CannaConnect - ECPv6.10.0//NONSGML v1.0//EN
CALSCALE:GREGORIAN
METHOD:PUBLISH
X-ORIGINAL-URL:https://www.cannaconnect.ca
X-WR-CALDESC:Events for CannaConnect
REFRESH-INTERVAL;VALUE=DURATION:PT1H
X-Robots-Tag:noindex
X-PUBLISHED-TTL:PT1H
BEGIN:VTIMEZONE
TZID:America/Toronto
BEGIN:DAYLIGHT
TZOFFSETFROM:-0500
TZOFFSETTO:-0400
TZNAME:EDT
DTSTART:20260308T070000
END:DAYLIGHT
BEGIN:STANDARD
TZOFFSETFROM:-0400
TZOFFSETTO:-0500
TZNAME:EST
DTSTART:20261101T060000
END:STANDARD
END:VTIMEZONE
BEGIN:VEVENT
DTSTART;TZID=America/Toronto:20260428T130000
DTEND;TZID=America/Toronto:20260428T130000
DTSTAMP:20260422T061457
CREATED:20231220T214118Z
LAST-MODIFIED:20231220T214118Z
UID:4732-1777381200-1777381200@www.cannaconnect.ca
SUMMARY:TRENTON- Gentle Yoga
DESCRIPTION:Join us at the Trenton Wellness Lounge for gentle yoga classes! Please bring a small blanket\, comfortable clothes\, and a yoga mat.
URL:https://www.cannaconnect.ca/event/trenton-gentle-yoga/2026-04-28/
LOCATION:Local Trenton Wellness Lounge\, 255 Glen Miller Road\, Unit 12\, Trenton\, Ontario\, K8V 5P8\, Canada
CATEGORIES:Trenton
ATTACH;FMTTYPE=image/png:https://www.cannaconnect.ca/wp-content/uploads/2023/12/quote-18.png
END:VEVENT
BEGIN:VEVENT
DTSTART;TZID=America/Toronto:20260505T130000
DTEND;TZID=America/Toronto:20260505T130000
DTSTAMP:20260422T061457
CREATED:20231220T214118Z
LAST-MODIFIED:20231220T214118Z
UID:4841-1777986000-1777986000@www.cannaconnect.ca
SUMMARY:TRENTON- Gentle Yoga
DESCRIPTION:Join us at the Trenton Wellness Lounge for gentle yoga classes! Please bring a small blanket\, comfortable clothes\, and a yoga mat.
URL:https://www.cannaconnect.ca/event/trenton-gentle-yoga/2026-05-05/
LOCATION:Local Trenton Wellness Lounge\, 255 Glen Miller Road\, Unit 12\, Trenton\, Ontario\, K8V 5P8\, Canada
CATEGORIES:Trenton
ATTACH;FMTTYPE=image/png:https://www.cannaconnect.ca/wp-content/uploads/2023/12/quote-18.png
END:VEVENT
BEGIN:VEVENT
DTSTART;TZID=America/Toronto:20260512T130000
DTEND;TZID=America/Toronto:20260512T130000
DTSTAMP:20260422T061457
CREATED:20231220T214118Z
LAST-MODIFIED:20231220T214118Z
UID:4852-1778590800-1778590800@www.cannaconnect.ca
SUMMARY:TRENTON- Gentle Yoga
DESCRIPTION:Join us at the Trenton Wellness Lounge for gentle yoga classes! Please bring a small blanket\, comfortable clothes\, and a yoga mat.
URL:https://www.cannaconnect.ca/event/trenton-gentle-yoga/2026-05-12/
LOCATION:Local Trenton Wellness Lounge\, 255 Glen Miller Road\, Unit 12\, Trenton\, Ontario\, K8V 5P8\, Canada
CATEGORIES:Trenton
ATTACH;FMTTYPE=image/png:https://www.cannaconnect.ca/wp-content/uploads/2023/12/quote-18.png
END:VEVENT
BEGIN:VEVENT
DTSTART;TZID=America/Toronto:20260519T130000
DTEND;TZID=America/Toronto:20260519T130000
DTSTAMP:20260422T061457
CREATED:20231220T214118Z
LAST-MODIFIED:20231220T214118Z
UID:4870-1779195600-1779195600@www.cannaconnect.ca
SUMMARY:TRENTON- Gentle Yoga
DESCRIPTION:Join us at the Trenton Wellness Lounge for gentle yoga classes! Please bring a small blanket\, comfortable clothes\, and a yoga mat.
URL:https://www.cannaconnect.ca/event/trenton-gentle-yoga/2026-05-19/
LOCATION:Local Trenton Wellness Lounge\, 255 Glen Miller Road\, Unit 12\, Trenton\, Ontario\, K8V 5P8\, Canada
CATEGORIES:Trenton
ATTACH;FMTTYPE=image/png:https://www.cannaconnect.ca/wp-content/uploads/2023/12/quote-18.png
END:VEVENT
BEGIN:VEVENT
DTSTART;TZID=America/Toronto:20260526T130000
DTEND;TZID=America/Toronto:20260526T130000
DTSTAMP:20260422T061457
CREATED:20231220T214118Z
LAST-MODIFIED:20231220T214118Z
UID:4876-1779800400-1779800400@www.cannaconnect.ca
SUMMARY:TRENTON- Gentle Yoga
DESCRIPTION:Join us at the Trenton Wellness Lounge for gentle yoga classes! Please bring a small blanket\, comfortable clothes\, and a yoga mat.
URL:https://www.cannaconnect.ca/event/trenton-gentle-yoga/2026-05-26/
LOCATION:Local Trenton Wellness Lounge\, 255 Glen Miller Road\, Unit 12\, Trenton\, Ontario\, K8V 5P8\, Canada
CATEGORIES:Trenton
ATTACH;FMTTYPE=image/png:https://www.cannaconnect.ca/wp-content/uploads/2023/12/quote-18.png
END:VEVENT
BEGIN:VEVENT
DTSTART;TZID=America/Toronto:20260602T130000
DTEND;TZID=America/Toronto:20260602T130000
DTSTAMP:20260422T061457
CREATED:20231220T214118Z
LAST-MODIFIED:20231220T214118Z
UID:4888-1780405200-1780405200@www.cannaconnect.ca
SUMMARY:TRENTON- Gentle Yoga
DESCRIPTION:Join us at the Trenton Wellness Lounge for gentle yoga classes! Please bring a small blanket\, comfortable clothes\, and a yoga mat.
URL:https://www.cannaconnect.ca/event/trenton-gentle-yoga/2026-06-02/
LOCATION:Local Trenton Wellness Lounge\, 255 Glen Miller Road\, Unit 12\, Trenton\, Ontario\, K8V 5P8\, Canada
CATEGORIES:Trenton
ATTACH;FMTTYPE=image/png:https://www.cannaconnect.ca/wp-content/uploads/2023/12/quote-18.png
END:VEVENT
BEGIN:VEVENT
DTSTART;TZID=America/Toronto:20260609T130000
DTEND;TZID=America/Toronto:20260609T130000
DTSTAMP:20260422T061457
CREATED:20231220T214118Z
LAST-MODIFIED:20231220T214118Z
UID:4906-1781010000-1781010000@www.cannaconnect.ca
SUMMARY:TRENTON- Gentle Yoga
DESCRIPTION:Join us at the Trenton Wellness Lounge for gentle yoga classes! Please bring a small blanket\, comfortable clothes\, and a yoga mat.
URL:https://www.cannaconnect.ca/event/trenton-gentle-yoga/2026-06-09/
LOCATION:Local Trenton Wellness Lounge\, 255 Glen Miller Road\, Unit 12\, Trenton\, Ontario\, K8V 5P8\, Canada
CATEGORIES:Trenton
ATTACH;FMTTYPE=image/png:https://www.cannaconnect.ca/wp-content/uploads/2023/12/quote-18.png
END:VEVENT
BEGIN:VEVENT
DTSTART;TZID=America/Toronto:20260616T130000
DTEND;TZID=America/Toronto:20260616T130000
DTSTAMP:20260422T061457
CREATED:20231220T214118Z
LAST-MODIFIED:20231220T214118Z
UID:4928-1781614800-1781614800@www.cannaconnect.ca
SUMMARY:TRENTON- Gentle Yoga
DESCRIPTION:Join us at the Trenton Wellness Lounge for gentle yoga classes! Please bring a small blanket\, comfortable clothes\, and a yoga mat.
URL:https://www.cannaconnect.ca/event/trenton-gentle-yoga/2026-06-16/
LOCATION:Local Trenton Wellness Lounge\, 255 Glen Miller Road\, Unit 12\, Trenton\, Ontario\, K8V 5P8\, Canada
CATEGORIES:Trenton
ATTACH;FMTTYPE=image/png:https://www.cannaconnect.ca/wp-content/uploads/2023/12/quote-18.png
END:VEVENT
BEGIN:VEVENT
DTSTART;TZID=America/Toronto:20260623T130000
DTEND;TZID=America/Toronto:20260623T130000
DTSTAMP:20260422T061457
CREATED:20231220T214118Z
LAST-MODIFIED:20231220T214118Z
UID:4929-1782219600-1782219600@www.cannaconnect.ca
SUMMARY:TRENTON- Gentle Yoga
DESCRIPTION:Join us at the Trenton Wellness Lounge for gentle yoga classes! Please bring a small blanket\, comfortable clothes\, and a yoga mat.
URL:https://www.cannaconnect.ca/event/trenton-gentle-yoga/2026-06-23/
LOCATION:Local Trenton Wellness Lounge\, 255 Glen Miller Road\, Unit 12\, Trenton\, Ontario\, K8V 5P8\, Canada
CATEGORIES:Trenton
ATTACH;FMTTYPE=image/png:https://www.cannaconnect.ca/wp-content/uploads/2023/12/quote-18.png
END:VEVENT
BEGIN:VEVENT
DTSTART;TZID=America/Toronto:20260630T130000
DTEND;TZID=America/Toronto:20260630T130000
DTSTAMP:20260422T061457
CREATED:20231220T214118Z
LAST-MODIFIED:20231220T214118Z
UID:4930-1782824400-1782824400@www.cannaconnect.ca
SUMMARY:TRENTON- Gentle Yoga
DESCRIPTION:Join us at the Trenton Wellness Lounge for gentle yoga classes! Please bring a small blanket\, comfortable clothes\, and a yoga mat.
URL:https://www.cannaconnect.ca/event/trenton-gentle-yoga/2026-06-30/
LOCATION:Local Trenton Wellness Lounge\, 255 Glen Miller Road\, Unit 12\, Trenton\, Ontario\, K8V 5P8\, Canada
CATEGORIES:Trenton
ATTACH;FMTTYPE=image/png:https://www.cannaconnect.ca/wp-content/uploads/2023/12/quote-18.png
END:VEVENT
BEGIN:VEVENT
DTSTART;TZID=America/Toronto:20260707T130000
DTEND;TZID=America/Toronto:20260707T130000
DTSTAMP:20260422T061457
CREATED:20231220T214118Z
LAST-MODIFIED:20231220T214118Z
UID:4947-1783429200-1783429200@www.cannaconnect.ca
SUMMARY:TRENTON- Gentle Yoga
DESCRIPTION:Join us at the Trenton Wellness Lounge for gentle yoga classes! Please bring a small blanket\, comfortable clothes\, and a yoga mat.
URL:https://www.cannaconnect.ca/event/trenton-gentle-yoga/2026-07-07/
LOCATION:Local Trenton Wellness Lounge\, 255 Glen Miller Road\, Unit 12\, Trenton\, Ontario\, K8V 5P8\, Canada
CATEGORIES:Trenton
ATTACH;FMTTYPE=image/png:https://www.cannaconnect.ca/wp-content/uploads/2023/12/quote-18.png
END:VEVENT
BEGIN:VEVENT
DTSTART;TZID=America/Toronto:20260714T130000
DTEND;TZID=America/Toronto:20260714T130000
DTSTAMP:20260422T061457
CREATED:20231220T214118Z
LAST-MODIFIED:20231220T214118Z
UID:4958-1784034000-1784034000@www.cannaconnect.ca
SUMMARY:TRENTON- Gentle Yoga
DESCRIPTION:Join us at the Trenton Wellness Lounge for gentle yoga classes! Please bring a small blanket\, comfortable clothes\, and a yoga mat.
URL:https://www.cannaconnect.ca/event/trenton-gentle-yoga/2026-07-14/
LOCATION:Local Trenton Wellness Lounge\, 255 Glen Miller Road\, Unit 12\, Trenton\, Ontario\, K8V 5P8\, Canada
CATEGORIES:Trenton
ATTACH;FMTTYPE=image/png:https://www.cannaconnect.ca/wp-content/uploads/2023/12/quote-18.png
END:VEVENT
BEGIN:VEVENT
DTSTART;TZID=America/Toronto:20260721T130000
DTEND;TZID=America/Toronto:20260721T130000
DTSTAMP:20260422T061457
CREATED:20231220T214118Z
LAST-MODIFIED:20231220T214118Z
UID:4989-1784638800-1784638800@www.cannaconnect.ca
SUMMARY:TRENTON- Gentle Yoga
DESCRIPTION:Join us at the Trenton Wellness Lounge for gentle yoga classes! Please bring a small blanket\, comfortable clothes\, and a yoga mat.
URL:https://www.cannaconnect.ca/event/trenton-gentle-yoga/2026-07-21/
LOCATION:Local Trenton Wellness Lounge\, 255 Glen Miller Road\, Unit 12\, Trenton\, Ontario\, K8V 5P8\, Canada
CATEGORIES:Trenton
ATTACH;FMTTYPE=image/png:https://www.cannaconnect.ca/wp-content/uploads/2023/12/quote-18.png
END:VEVENT
BEGIN:VEVENT
DTSTART;TZID=America/Toronto:20260728T130000
DTEND;TZID=America/Toronto:20260728T130000
DTSTAMP:20260422T061457
CREATED:20231220T214118Z
LAST-MODIFIED:20231220T214118Z
UID:4996-1785243600-1785243600@www.cannaconnect.ca
SUMMARY:TRENTON- Gentle Yoga
DESCRIPTION:Join us at the Trenton Wellness Lounge for gentle yoga classes! Please bring a small blanket\, comfortable clothes\, and a yoga mat.
URL:https://www.cannaconnect.ca/event/trenton-gentle-yoga/2026-07-28/
LOCATION:Local Trenton Wellness Lounge\, 255 Glen Miller Road\, Unit 12\, Trenton\, Ontario\, K8V 5P8\, Canada
CATEGORIES:Trenton
ATTACH;FMTTYPE=image/png:https://www.cannaconnect.ca/wp-content/uploads/2023/12/quote-18.png
END:VEVENT
BEGIN:VEVENT
DTSTART;TZID=America/Toronto:20260804T130000
DTEND;TZID=America/Toronto:20260804T130000
DTSTAMP:20260422T061457
CREATED:20231220T214118Z
LAST-MODIFIED:20231220T214118Z
UID:4997-1785848400-1785848400@www.cannaconnect.ca
SUMMARY:TRENTON- Gentle Yoga
DESCRIPTION:Join us at the Trenton Wellness Lounge for gentle yoga classes! Please bring a small blanket\, comfortable clothes\, and a yoga mat.
URL:https://www.cannaconnect.ca/event/trenton-gentle-yoga/2026-08-04/
LOCATION:Local Trenton Wellness Lounge\, 255 Glen Miller Road\, Unit 12\, Trenton\, Ontario\, K8V 5P8\, Canada
CATEGORIES:Trenton
ATTACH;FMTTYPE=image/png:https://www.cannaconnect.ca/wp-content/uploads/2023/12/quote-18.png
END:VEVENT
BEGIN:VEVENT
DTSTART;TZID=America/Toronto:20260811T130000
DTEND;TZID=America/Toronto:20260811T130000
DTSTAMP:20260422T061457
CREATED:20231220T214118Z
LAST-MODIFIED:20231220T214118Z
UID:5019-1786453200-1786453200@www.cannaconnect.ca
SUMMARY:TRENTON- Gentle Yoga
DESCRIPTION:Join us at the Trenton Wellness Lounge for gentle yoga classes! Please bring a small blanket\, comfortable clothes\, and a yoga mat.
URL:https://www.cannaconnect.ca/event/trenton-gentle-yoga/2026-08-11/
LOCATION:Local Trenton Wellness Lounge\, 255 Glen Miller Road\, Unit 12\, Trenton\, Ontario\, K8V 5P8\, Canada
CATEGORIES:Trenton
ATTACH;FMTTYPE=image/png:https://www.cannaconnect.ca/wp-content/uploads/2023/12/quote-18.png
END:VEVENT
BEGIN:VEVENT
DTSTART;TZID=America/Toronto:20260818T130000
DTEND;TZID=America/Toronto:20260818T130000
DTSTAMP:20260422T061457
CREATED:20231220T214118Z
LAST-MODIFIED:20231220T214118Z
UID:5051-1787058000-1787058000@www.cannaconnect.ca
SUMMARY:TRENTON- Gentle Yoga
DESCRIPTION:Join us at the Trenton Wellness Lounge for gentle yoga classes! Please bring a small blanket\, comfortable clothes\, and a yoga mat.
URL:https://www.cannaconnect.ca/event/trenton-gentle-yoga/2026-08-18/
LOCATION:Local Trenton Wellness Lounge\, 255 Glen Miller Road\, Unit 12\, Trenton\, Ontario\, K8V 5P8\, Canada
CATEGORIES:Trenton
ATTACH;FMTTYPE=image/png:https://www.cannaconnect.ca/wp-content/uploads/2023/12/quote-18.png
END:VEVENT
BEGIN:VEVENT
DTSTART;TZID=America/Toronto:20260825T130000
DTEND;TZID=America/Toronto:20260825T130000
DTSTAMP:20260422T061457
CREATED:20231220T214118Z
LAST-MODIFIED:20231220T214118Z
UID:5070-1787662800-1787662800@www.cannaconnect.ca
SUMMARY:TRENTON- Gentle Yoga
DESCRIPTION:Join us at the Trenton Wellness Lounge for gentle yoga classes! Please bring a small blanket\, comfortable clothes\, and a yoga mat.
URL:https://www.cannaconnect.ca/event/trenton-gentle-yoga/2026-08-25/
LOCATION:Local Trenton Wellness Lounge\, 255 Glen Miller Road\, Unit 12\, Trenton\, Ontario\, K8V 5P8\, Canada
CATEGORIES:Trenton
ATTACH;FMTTYPE=image/png:https://www.cannaconnect.ca/wp-content/uploads/2023/12/quote-18.png
END:VEVENT
BEGIN:VEVENT
DTSTART;TZID=America/Toronto:20260901T130000
DTEND;TZID=America/Toronto:20260901T130000
DTSTAMP:20260422T061457
CREATED:20231220T214118Z
LAST-MODIFIED:20231220T214118Z
UID:5090-1788267600-1788267600@www.cannaconnect.ca
SUMMARY:TRENTON- Gentle Yoga
DESCRIPTION:Join us at the Trenton Wellness Lounge for gentle yoga classes! Please bring a small blanket\, comfortable clothes\, and a yoga mat.
URL:https://www.cannaconnect.ca/event/trenton-gentle-yoga/2026-09-01/
LOCATION:Local Trenton Wellness Lounge\, 255 Glen Miller Road\, Unit 12\, Trenton\, Ontario\, K8V 5P8\, Canada
CATEGORIES:Trenton
ATTACH;FMTTYPE=image/png:https://www.cannaconnect.ca/wp-content/uploads/2023/12/quote-18.png
END:VEVENT
BEGIN:VEVENT
DTSTART;TZID=America/Toronto:20260908T130000
DTEND;TZID=America/Toronto:20260908T130000
DTSTAMP:20260422T061457
CREATED:20231220T214118Z
LAST-MODIFIED:20231220T214118Z
UID:5096-1788872400-1788872400@www.cannaconnect.ca
SUMMARY:TRENTON- Gentle Yoga
DESCRIPTION:Join us at the Trenton Wellness Lounge for gentle yoga classes! Please bring a small blanket\, comfortable clothes\, and a yoga mat.
URL:https://www.cannaconnect.ca/event/trenton-gentle-yoga/2026-09-08/
LOCATION:Local Trenton Wellness Lounge\, 255 Glen Miller Road\, Unit 12\, Trenton\, Ontario\, K8V 5P8\, Canada
CATEGORIES:Trenton
ATTACH;FMTTYPE=image/png:https://www.cannaconnect.ca/wp-content/uploads/2023/12/quote-18.png
END:VEVENT
BEGIN:VEVENT
DTSTART;TZID=America/Toronto:20260915T130000
DTEND;TZID=America/Toronto:20260915T130000
DTSTAMP:20260422T061457
CREATED:20231220T214118Z
LAST-MODIFIED:20231220T214118Z
UID:5171-1789477200-1789477200@www.cannaconnect.ca
SUMMARY:TRENTON- Gentle Yoga
DESCRIPTION:Join us at the Trenton Wellness Lounge for gentle yoga classes! Please bring a small blanket\, comfortable clothes\, and a yoga mat.
URL:https://www.cannaconnect.ca/event/trenton-gentle-yoga/2026-09-15/
LOCATION:Local Trenton Wellness Lounge\, 255 Glen Miller Road\, Unit 12\, Trenton\, Ontario\, K8V 5P8\, Canada
CATEGORIES:Trenton
ATTACH;FMTTYPE=image/png:https://www.cannaconnect.ca/wp-content/uploads/2023/12/quote-18.png
END:VEVENT
BEGIN:VEVENT
DTSTART;TZID=America/Toronto:20260922T130000
DTEND;TZID=America/Toronto:20260922T130000
DTSTAMP:20260422T061457
CREATED:20231220T214118Z
LAST-MODIFIED:20231220T214118Z
UID:5280-1790082000-1790082000@www.cannaconnect.ca
SUMMARY:TRENTON- Gentle Yoga
DESCRIPTION:Join us at the Trenton Wellness Lounge for gentle yoga classes! Please bring a small blanket\, comfortable clothes\, and a yoga mat.
URL:https://www.cannaconnect.ca/event/trenton-gentle-yoga/2026-09-22/
LOCATION:Local Trenton Wellness Lounge\, 255 Glen Miller Road\, Unit 12\, Trenton\, Ontario\, K8V 5P8\, Canada
CATEGORIES:Trenton
ATTACH;FMTTYPE=image/png:https://www.cannaconnect.ca/wp-content/uploads/2023/12/quote-18.png
END:VEVENT
BEGIN:VEVENT
DTSTART;TZID=America/Toronto:20260929T130000
DTEND;TZID=America/Toronto:20260929T130000
DTSTAMP:20260422T061457
CREATED:20231220T214118Z
LAST-MODIFIED:20231220T214118Z
UID:5391-1790686800-1790686800@www.cannaconnect.ca
SUMMARY:TRENTON- Gentle Yoga
DESCRIPTION:Join us at the Trenton Wellness Lounge for gentle yoga classes! Please bring a small blanket\, comfortable clothes\, and a yoga mat.
URL:https://www.cannaconnect.ca/event/trenton-gentle-yoga/2026-09-29/
LOCATION:Local Trenton Wellness Lounge\, 255 Glen Miller Road\, Unit 12\, Trenton\, Ontario\, K8V 5P8\, Canada
CATEGORIES:Trenton
ATTACH;FMTTYPE=image/png:https://www.cannaconnect.ca/wp-content/uploads/2023/12/quote-18.png
END:VEVENT
BEGIN:VEVENT
DTSTART;TZID=America/Toronto:20261006T130000
DTEND;TZID=America/Toronto:20261006T130000
DTSTAMP:20260422T061457
CREATED:20231220T214118Z
LAST-MODIFIED:20231220T214118Z
UID:5392-1791291600-1791291600@www.cannaconnect.ca
SUMMARY:TRENTON- Gentle Yoga
DESCRIPTION:Join us at the Trenton Wellness Lounge for gentle yoga classes! Please bring a small blanket\, comfortable clothes\, and a yoga mat.
URL:https://www.cannaconnect.ca/event/trenton-gentle-yoga/2026-10-06/
LOCATION:Local Trenton Wellness Lounge\, 255 Glen Miller Road\, Unit 12\, Trenton\, Ontario\, K8V 5P8\, Canada
CATEGORIES:Trenton
ATTACH;FMTTYPE=image/png:https://www.cannaconnect.ca/wp-content/uploads/2023/12/quote-18.png
END:VEVENT
BEGIN:VEVENT
DTSTART;TZID=America/Toronto:20261013T130000
DTEND;TZID=America/Toronto:20261013T130000
DTSTAMP:20260422T061457
CREATED:20231220T214118Z
LAST-MODIFIED:20231220T214118Z
UID:5393-1791896400-1791896400@www.cannaconnect.ca
SUMMARY:TRENTON- Gentle Yoga
DESCRIPTION:Join us at the Trenton Wellness Lounge for gentle yoga classes! Please bring a small blanket\, comfortable clothes\, and a yoga mat.
URL:https://www.cannaconnect.ca/event/trenton-gentle-yoga/2026-10-13/
LOCATION:Local Trenton Wellness Lounge\, 255 Glen Miller Road\, Unit 12\, Trenton\, Ontario\, K8V 5P8\, Canada
CATEGORIES:Trenton
ATTACH;FMTTYPE=image/png:https://www.cannaconnect.ca/wp-content/uploads/2023/12/quote-18.png
END:VEVENT
BEGIN:VEVENT
DTSTART;TZID=America/Toronto:20261020T130000
DTEND;TZID=America/Toronto:20261020T130000
DTSTAMP:20260422T061457
CREATED:20231220T214118Z
LAST-MODIFIED:20231220T214118Z
UID:5394-1792501200-1792501200@www.cannaconnect.ca
SUMMARY:TRENTON- Gentle Yoga
DESCRIPTION:Join us at the Trenton Wellness Lounge for gentle yoga classes! Please bring a small blanket\, comfortable clothes\, and a yoga mat.
URL:https://www.cannaconnect.ca/event/trenton-gentle-yoga/2026-10-20/
LOCATION:Local Trenton Wellness Lounge\, 255 Glen Miller Road\, Unit 12\, Trenton\, Ontario\, K8V 5P8\, Canada
CATEGORIES:Trenton
ATTACH;FMTTYPE=image/png:https://www.cannaconnect.ca/wp-content/uploads/2023/12/quote-18.png
END:VEVENT
BEGIN:VEVENT
DTSTART;TZID=America/Toronto:20261027T130000
DTEND;TZID=America/Toronto:20261027T130000
DTSTAMP:20260422T061457
CREATED:20231220T214118Z
LAST-MODIFIED:20231220T214118Z
UID:5395-1793106000-1793106000@www.cannaconnect.ca
SUMMARY:TRENTON- Gentle Yoga
DESCRIPTION:Join us at the Trenton Wellness Lounge for gentle yoga classes! Please bring a small blanket\, comfortable clothes\, and a yoga mat.
URL:https://www.cannaconnect.ca/event/trenton-gentle-yoga/2026-10-27/
LOCATION:Local Trenton Wellness Lounge\, 255 Glen Miller Road\, Unit 12\, Trenton\, Ontario\, K8V 5P8\, Canada
CATEGORIES:Trenton
ATTACH;FMTTYPE=image/png:https://www.cannaconnect.ca/wp-content/uploads/2023/12/quote-18.png
END:VEVENT
BEGIN:VEVENT
DTSTART;TZID=America/Toronto:20261103T130000
DTEND;TZID=America/Toronto:20261103T130000
DTSTAMP:20260422T061457
CREATED:20231220T214118Z
LAST-MODIFIED:20231220T214118Z
UID:5396-1793710800-1793710800@www.cannaconnect.ca
SUMMARY:TRENTON- Gentle Yoga
DESCRIPTION:Join us at the Trenton Wellness Lounge for gentle yoga classes! Please bring a small blanket\, comfortable clothes\, and a yoga mat.
URL:https://www.cannaconnect.ca/event/trenton-gentle-yoga/2026-11-03/
LOCATION:Local Trenton Wellness Lounge\, 255 Glen Miller Road\, Unit 12\, Trenton\, Ontario\, K8V 5P8\, Canada
CATEGORIES:Trenton
ATTACH;FMTTYPE=image/png:https://www.cannaconnect.ca/wp-content/uploads/2023/12/quote-18.png
END:VEVENT
BEGIN:VEVENT
DTSTART;TZID=America/Toronto:20261110T130000
DTEND;TZID=America/Toronto:20261110T130000
DTSTAMP:20260422T061457
CREATED:20231220T214118Z
LAST-MODIFIED:20231220T214118Z
UID:5430-1794315600-1794315600@www.cannaconnect.ca
SUMMARY:TRENTON- Gentle Yoga
DESCRIPTION:Join us at the Trenton Wellness Lounge for gentle yoga classes! Please bring a small blanket\, comfortable clothes\, and a yoga mat.
URL:https://www.cannaconnect.ca/event/trenton-gentle-yoga/2026-11-10/
LOCATION:Local Trenton Wellness Lounge\, 255 Glen Miller Road\, Unit 12\, Trenton\, Ontario\, K8V 5P8\, Canada
CATEGORIES:Trenton
ATTACH;FMTTYPE=image/png:https://www.cannaconnect.ca/wp-content/uploads/2023/12/quote-18.png
END:VEVENT
BEGIN:VEVENT
DTSTART;TZID=America/Toronto:20261117T130000
DTEND;TZID=America/Toronto:20261117T130000
DTSTAMP:20260422T061457
CREATED:20231220T214118Z
LAST-MODIFIED:20231220T214118Z
UID:5462-1794920400-1794920400@www.cannaconnect.ca
SUMMARY:TRENTON- Gentle Yoga
DESCRIPTION:Join us at the Trenton Wellness Lounge for gentle yoga classes! Please bring a small blanket\, comfortable clothes\, and a yoga mat.
URL:https://www.cannaconnect.ca/event/trenton-gentle-yoga/2026-11-17/
LOCATION:Local Trenton Wellness Lounge\, 255 Glen Miller Road\, Unit 12\, Trenton\, Ontario\, K8V 5P8\, Canada
CATEGORIES:Trenton
ATTACH;FMTTYPE=image/png:https://www.cannaconnect.ca/wp-content/uploads/2023/12/quote-18.png
END:VEVENT
END:VCALENDAR